{"text_format":"1","workbook":"xlsx","n_sheets":7,"sheets":["Dashboard","Team Performance","Summary","MD","Top 10 Team","Bottom 10 Team","Top Bottom 10 Revenue"],"not_rendered":{"charts":20,"images":0,"macros":1,"external_links":0,"defined_names":4,"comments":0,"pivot_tables":0},"unopened":[],"bounds":{"document_bytes":16777216,"sheet_cells":100000,"rows_first":2000,"rows_last":500,"rows_between":2000,"halvings":0,"cell_chars":16384,"cell_head_chars":4096},"cells_cut":0,"cells_raw":0,"read":"whole","date_system":"1900"}

{"sheet":"Dashboard","index":0,"n_rows":52,"n_cols":2,"rows_kept":52,"cut":false,"hidden":false,"merged":[[21,1,21,23],[32,1,32,23],[2,1,2,23],[51,1,51,23],[0,1,1,23]]}
[null,"Team Performance Dashboard"]
[]
[null,"Sales Overview"]
[]
[]
[]
[]
[]
[]
[]
[]
[]
[]
[]
[]
[]
[]
[]
[]
[]
[]
[null,"% Productive Time - Team"]
[]
[]
[]
[]
[]
[]
[]
[]
[]
[]
[null,"% Staff Performance"]
[]
[]
[]
[]
[]
[]
[]
[]
[]
[]
[]
[]
[]
[]
[]
[]
[]
[]
[null,"Revenue"]

{"sheet":"Team Performance","index":1,"n_rows":103,"n_cols":19,"rows_kept":103,"cut":false,"hidden":false,"merged":[]}
["Team","Team Members","Product","Sale Date","Region","Login Hours","Total Talk Time","Total Hold Time","Sales","Sales Per Hour","Revenue","Revenue Per Hour","Calls","Excellent","Good","Fair","Poor","Total","CSAT% (Customer Satisfaction)"]
["Team A","Sydnee","Product 1","2014-06-01","Alabama",7.5,7.4,0.5,37,{"$f":"I2/G2","v":5},1258,{"$f":"K2/G2","v":170},358,24,40,32,15,{"$f":"SUM(N2:Q2)","v":111},{"$f":"SUM(N2:O2)/R2","v":0.57657657657657657}]
["Team A","Amber","Product 2","2014-06-01","California",8.5,8.1999999999999993,0.70000000000000018,39,{"$f":"I3/G3","v":4.7560975609756104},1326,{"$f":"K3/G3","v":161.70731707317074},323,20,35,34,15,{"$f":"SUM(N3:Q3)","v":104},{"$f":"SUM(N3:O3)/R3","v":0.52884615384615385}]
["Team A","Constance","Product 1","2014-06-01","Colorado",9.5,9,0.3,41,4.5555555555555554,1394,154.88888888888889,310,40,32,30,11,113,0.63716814159292035]
["Team A","Nola","Product 2","2014-06-01","Connecticut",9,8.3000000000000007,0.8,51,6.1445783132530112,1734,208.9156626506024,327,25,36,33,12,106,0.57547169811320753]
["Team A","Libby","Product 1","2014-06-01","Florida",8.5,7.6,0.2,58,7.6315789473684212,1972,259.4736842105263,367,27,37,36,12,112,0.5714285714285714]
["Team A","Tashya","Product 2","2014-06-01","Hawaii",8.4,7.3000000000000007,0.6,64,8.7671232876712324,2176,298.08219178082192,379,23,37,33,11,104,0.57692307692307687]
["Team A","Flavia","Product 1","2014-06-01","Alabama",8.6,7.3,0.5,60,8.2191780821917817,2040,279.45205479452056,302,24,37,33,12,106,0.57547169811320753]
["Team A","Guinevere","Product 2","2014-06-01","California",8.5,7,0.70000000000000018,69,9.8571428571428577,2346,335.14285714285717,380,21,32,33,11,97,0.54639175257731953]
["Team A","Darryl","Product 1","2014-06-01","Colorado",8.1999999999999993,6.4999999999999991,0.3,75,11.53846153846154,2550,392.30769230769238,394,30,38,35,13,116,0.58620689655172409]
["Team A","Farrah","Product 2","2014-06-01","Connecticut",9.1999999999999993,7.2999999999999989,0.8,84,11.506849315068495,2856,391.23287671232885,321,27,32,40,14,113,0.52212389380530977]
["Team B","Rowan","Product 1","2014-06-01","Florida",8.5,6.4,0.2,80,12.5,2720,425,348,20,38,30,10,98,0.59183673469387754]
["Team B","Quyn","Product 2","2014-06-01","Hawaii",6.8,4.5,0.6,71,15.777777777777779,2414,536.44444444444446,381,23,34,36,11,104,0.54807692307692313]
["Team B","Xantha","Product 1","2014-06-01","Alabama",6.9,4.4000000000000004,0.5,69,15.68181818181818,2346,533.18181818181813,335,28,31,33,15,107,0.55140186915887845]
["Team B","Winifred","Product 2","2014-06-01","California",6.1,3.3999999999999995,0.70000000000000018,58,17.058823529411768,1972,580.00000000000011,327,23,30,33,11,97,0.54639175257731953]
["Team B","Iona","Product 1","2014-06-01","Colorado",5.2,2.3000000000000003,0.3,58,25.217391304347824,1972,857.39130434782601,369,21,40,34,10,105,0.580952380952381]
["Team B","Keelie","Product 2","2014-06-01","Connecticut",5.5,2.4,0.8,54,22.5,1836,765,365,29,34,36,14,113,0.55752212389380529]
["Team B","Brynne","Product 1","2014-06-01","Florida",5.5,5.4,0.2,44,8.148148148148147,1496,277.03703703703701,370,27,38,33,14,112,0.5803571428571429]
["Team B","Sierra","Product 2","2014-06-01","Hawaii",8.8000000000000007,8.5,0.6,35,4.117647058823529,1190,140,302,21,34,36,13,104,0.52884615384615385]
["Team B","Gay","Product 1","2014-06-01","Alabama",8.3000000000000007,7.8000000000000007,0.5,33,4.2307692307692299,1122,143.84615384615384,316,28,33,34,11,106,0.57547169811320753]
["Team B","Inez","Product 2","2014-06-01","California",9.4,8.7000000000000011,0.70000000000000018,40,4.5977011494252871,1360,156.32183908045974,330,24,32,30,10,96,0.58333333333333337]
["Team C","Illana","Product 1","2014-06-01","Colorado",8.2999999999999989,7.3999999999999986,0.3,35,4.7297297297297307,1190,160.81081081081084,356,21,35,35,10,101,0.5544554455445545]
["Team C","Renee","Product 2","2014-06-01","Connecticut",8.1999999999999993,7.1,0.8,48,6.7605633802816909,1632,229.85915492957747,397,23,32,33,13,101,0.54455445544554459]
["Team C","Olympia","Product 1","2014-06-01","Florida",8,6.7,0.2,54,8.0597014925373127,1836,274.02985074626866,379,20,36,31,14,101,0.5544554455445545]
["Team C","Camille","Product 2","2014-06-01","Hawaii",9,7.5,0.6,56,7.4666666666666668,1904,253.86666666666667,348,22,30,37,14,103,0.50485436893203883]
["Team C","Shaine","Product 1","2014-06-01","Alabama",9.8000000000000007,8.1000000000000014,0.5,59,7.2839506172839492,2006,247.65432098765427,356,28,38,40,14,120,0.55000000000000004]
["Team C","Maris","Product 2","2014-06-01","California",8,6.1,0.70000000000000018,64,10.491803278688526,2176,356.72131147540983,354,28,38,36,11,113,0.58407079646017701]
["Team C","Jana","Product 1","2014-06-01","Colorado",9.1,7,0.3,72,10.285714285714286,2448,349.71428571428572,341,22,30,31,14,97,0.53608247422680411]
["Team C","Audra","Product 2","2014-06-01","Connecticut",7.8,5.5,0.8,71,12.909090909090908,2414,438.90909090909093,376,28,39,33,12,112,0.5982142857142857]
["Team C","Rosalyn","Product 1","2014-06-01","Florida",6.5,4,0.2,76,19,2584,646,353,27,37,35,12,111,0.57657657657657657]
["Team C","April","Product 2","2014-06-01","Hawaii",6.5,3.8,0.6,70,18.421052631578949,2380,626.31578947368428,324,25,32,31,14,102,0.55882352941176472]
["Team D","Dara","Product 1","2014-06-01","Alabama",6.5,3.6,0.5,68,18.888888888888889,2312,642.22222222222217,364,21,32,37,13,103,0.5145631067961165]
["Team D","Daria","Product 2","2014-06-01","California",6.5000000000000009,3.4000000000000008,0.70000000000000018,65,19.117647058823525,2210,649.99999999999989,357,24,30,39,11,104,0.51923076923076927]
["Team D","Ariel","Product 1","2014-06-01","Colorado",5.3,2,0.3,55,27.5,1870,935,301,27,39,39,11,116,0.56896551724137934]
["Team D","Hermione","Product 2","2014-06-01","Connecticut",5.4,1.9000000000000004,0.8,51,26.84210526315789,1734,912.63157894736821,398,29,31,33,11,104,0.57692307692307687]
["Team D","Aileen","Product 1","2014-06-01","Florida",8.1,4.3999999999999995,0.2,49,11.136363636363638,1666,378.63636363636368,324,22,36,39,14,111,0.52252252252252251]
["Team D","Cheyenne","Product 2","2014-06-01","Hawaii",8,4.0999999999999996,0.6,44,10.731707317073171,1496,364.87804878048786,307,24,33,40,11,108,0.52777777777777779]
["Team D","Lois","Product 1","2014-06-01","Alabama",9,4.9000000000000004,0.5,36,7.3469387755102034,1224,249.79591836734693,327,28,33,37,12,110,0.55454545454545456]
["Team D","Madeson","Product 2","2014-06-01","California",8.6999999999999993,4.3999999999999995,0.70000000000000018,31,7.0454545454545467,1054,239.54545454545456,394,29,37,34,11,111,0.59459459459459463]
["Team D","Ariana","Product 1","2014-06-01","Colorado",9.5,5,0.3,39,7.8,1326,265.2,369,21,40,34,15,110,0.55454545454545456]
["Team D","Kendall","Product 2","2014-06-01","Connecticut",7.8,3.0999999999999996,0.8,44,14.193548387096776,1496,482.58064516129036,338,5,3,2,15,25,0.32]
["Team E","Lacy","Product 1","2014-06-01","Florida",8.9,8,0.2,47,5.875,1598,199.75,377,27,30,34,10,101,0.5643564356435643]
["Team E","Heather","Product 2","2014-06-01","Hawaii",9.1,8,0.6,47,5.875,1598,199.75,398,28,31,32,10,101,0.58415841584158412]
["Team E","Nevada","Product 1","2014-06-01","Alabama",9,7.7,0.5,58,7.5324675324675319,1972,256.10389610389609,320,5,4,39,12,60,0.15]
["Team E","Mercedes","Product 2","2014-06-01","California",8.5,7,0.70000000000000018,65,9.2857142857142865,2210,315.71428571428572,338,24,34,33,12,103,0.56310679611650483]
["Team E","Courtney","Product 1","2014-06-01","Colorado",8.1,6.3999999999999995,0.3,68,10.625,2312,361.25000000000006,371,29,30,38,12,109,0.54128440366972475]
["Team E","Amanda","Product 2","2014-06-01","Connecticut",7.1,5.1999999999999993,0.8,67,12.884615384615387,2278,438.07692307692315,347,20,40,35,15,110,0.54545454545454541]
["Team E","Madeline","Product 1","2014-06-01","Florida",6,3.9,0.2,78,20,2652,680,368,30,40,38,15,123,0.56910569105691056]
["Team E","Zia","Product 2","2014-06-01","Hawaii",6,3.7,0.6,85,22.972972972972972,2890,781.08108108108104,353,22,31,37,13,103,0.5145631067961165]
["Team E","Miriam","Product 1","2014-06-01","Alabama",6.2,3.7,0.5,79,21.351351351351351,2686,725.94594594594594,339,30,40,30,11,111,0.63063063063063063]
["Team E","Quin","Product 2","2014-06-01","California",6.3000000000000007,3.6000000000000005,0.70000000000000018,66,18.333333333333332,2244,623.33333333333326,395,23,35,37,12,107,0.54205607476635509]
["Team F","Ivory","Product 1","2014-06-01","Colorado",4.8,1.9,0.3,64,33.684210526315788,2176,1145.2631578947369,316,30,40,36,15,121,0.57851239669421484]
["Team F","Stacy","Product 2","2014-06-01","Connecticut",8.4,5.3000000000000007,0.8,65,12.264150943396224,2210,416.98113207547163,383,30,30,36,10,106,0.56603773584905659]
["Team F","Dai","Product 1","2014-06-01","Florida",8.6,5.3,0.2,51,9.6226415094339632,1734,327.16981132075472,336,23,38,35,10,106,0.57547169811320753]
["Team F","Shelley","Product 2","2014-06-01","Hawaii",8.5,5,0.6,50,10,1700,340,333,20,31,34,13,98,0.52040816326530615]
["Team F","Shelby","Product 1","2014-06-01","Alabama",8.1999999999999993,4.4999999999999991,0.5,47,10.444444444444446,1598,355.1111111111112,389,20,39,39,13,111,0.53153153153153154]
["Team F","Riley","Product 2","2014-06-01","California",9.1999999999999993,5.2999999999999989,0.70000000000000018,43,8.1132075471698126,1462,275.84905660377365,334,30,38,30,11,109,0.62385321100917435]
["Team F","Cleo","Product 1","2014-06-01","Colorado",8.8000000000000007,4.7000000000000011,0.3,35,7.446808510638296,1190,253.19148936170208,307,28,33,32,12,105,0.580952380952381]
["Team F","Patricia","Product 2","2014-06-01","Connecticut",8.3000000000000007,4.0000000000000009,0.8,34,8.4999999999999982,1156,288.99999999999994,378,24,35,37,13,109,0.54128440366972475]
["Team F","Britanney","Product 1","2014-06-01","Florida",9.4,4.9000000000000004,0.2,35,7.1428571428571423,1190,242.85714285714283,357,27,30,31,12,100,0.56999999999999995]
["Team F","Tatum","Product 2","2014-06-01","Hawaii",8.2999999999999989,3.5999999999999988,0.6,43,11.944444444444448,1462,406.11111111111126,370,22,33,32,15,102,0.53921568627450978]
["Team G","Katelyn","Product 1","2014-06-01","Alabama",8.1999999999999993,7.2999999999999989,0.5,51,6.986301369863015,1734,237.53424657534251,322,24,30,32,14,100,0.54]
["Team G","Pamela","Product 2","2014-06-01","California",7.7,6.6,0.70000000000000018,57,8.6363636363636367,1938,293.63636363636363,326,29,33,38,13,113,0.54867256637168138]
["Team G","Rhoda","Product 1","2014-06-01","Colorado",7.5,6.2,0.3,61,9.8387096774193541,2074,334.51612903225805,339,25,32,31,14,102,0.55882352941176472]
["Team G","Deanna","Product 2","2014-06-01","Connecticut",7.3000000000000007,5.8000000000000007,0.8,65,11.206896551724137,2210,381.03448275862064,390,21,33,35,13,102,0.52941176470588236]
["Team G","Mallory","Product 1","2014-06-01","Florida",5.8,4.0999999999999996,0.2,69,16.829268292682929,2346,572.19512195121956,330,30,33,40,13,116,0.5431034482758621]
["Team G","Medge","Product 2","2014-06-01","Hawaii",6.1000000000000005,4.2000000000000011,0.6,70,{"$f":"I67/G67","v":16.666666666666661},2380,{"$f":"K67/G67","v":566.66666666666652},392,27,30,30,12,{"$f":"SUM(N67:Q67)","v":99},{"$f":"SUM(N67:O67)/R67","v":0.5757575757575758}]
["Team G","Dana","Product 1","2014-06-01","Alabama",5.6,3.4999999999999996,0.5,82,23.428571428571431,2788,796.57142857142867,396,27,30,38,15,110,0.51818181818181819]
["Team G","Regina","Product 2","2014-06-01","California",4.5,2.2000000000000002,0.70000000000000018,75,34.090909090909086,2550,1159.090909090909,372,21,39,35,13,108,0.55555555555555558]
["Team G","Kirby","Product 1","2014-06-01","Colorado",8,5.5,0.3,66,12,2244,408,352,23,39,32,14,108,0.57407407407407407]
["Team G","Rae","Product 2","2014-06-01","Connecticut",9,6.3,0.8,70,11.111111111111111,2380,377.77777777777777,373,28,31,40,10,109,0.54128440366972475]
["Team H","Frances","Product 1","2014-06-01","Florida",9.8000000000000007,6.9,0.2,56,8.115942028985506,1904,275.94202898550725,394,27,37,37,10,111,0.57657657657657657]
["Team H","Xerxes","Product 2","2014-06-01","Hawaii",8,4.9000000000000004,0.6,59,12.040816326530612,2006,409.38775510204079,303,29,38,32,13,112,0.5982142857142857]
["Team H","Carolyn","Product 1","2014-06-01","Alabama",9.1,5.8,0.5,53,9.1379310344827598,1802,310.68965517241378,382,23,33,33,11,100,0.56000000000000005]
["Team H","Zenia","Product 2","2014-06-01","California",8.1,4.5999999999999996,0.70000000000000018,46,10,1564,340,316,28,36,35,11,110,0.58181818181818179]
["Team H","Phyllis","Product 1","2014-06-01","Colorado",8,4.3,0.3,37,8.6046511627906987,1258,292.55813953488371,334,29,31,30,11,101,0.59405940594059403]
["Team H","Ashely","Product 2","2014-06-01","Connecticut",9,5.0999999999999996,0.8,36,7.0588235294117654,1224,240.00000000000003,391,27,31,35,13,106,0.54716981132075471]
["Team H","Nomlanga","Product 1","2014-06-01","Florida",8.6999999999999993,4.5999999999999996,0.2,38,8.2608695652173925,1292,280.86956521739131,368,26,31,38,11,106,0.53773584905660377]
["Team H","Kirestin","Product 2","2014-06-01","Hawaii",9.5,5.2,0.6,36,6.9230769230769225,1224,235.38461538461539,376,25,36,33,11,105,0.580952380952381]
["Team H","Serena","Product 1","2014-06-01","Alabama",7.5,3,0.5,40,13.333333333333334,1360,453.33333333333331,359,25,37,34,10,106,0.58490566037735847]
["Team H","Hilary","Product 2","2014-06-01","California",7.4,2.7,0.70000000000000018,49,18.148148148148145,1666,617.03703703703695,302,28,32,34,15,109,0.55045871559633031]
["Team I","Gretchen","Product 1","2014-06-01","Colorado",6.6,5.6999999999999993,0.3,52,9.1228070175438614,1768,310.17543859649129,323,27,38,36,11,112,0.5803571428571429]
["Team I","Giselle","Product 2","2014-06-01","Connecticut",5.5,4.4000000000000004,0.8,56,12.727272727272727,1904,432.72727272727269,400,30,32,38,15,115,0.53913043478260869]
["Team I","Galena","Product 1","2014-06-01","Florida",5.7,4.4000000000000004,0.2,62,14.09090909090909,2108,479.09090909090907,397,29,31,32,10,102,0.58823529411764708]
["Team I","Calista","Product 2","2014-06-01","Hawaii",6,4.5,0.6,65,14.444444444444445,2210,491.11111111111109,327,27,33,37,13,110,0.54545454545454541]
["Team I","Juliet","Product 1","2014-06-01","Alabama",5.8000000000000007,4.1000000000000005,0.5,79,19.268292682926827,2686,655.12195121951208,327,20,34,32,10,96,0.5625]
["Team I","Karyn","Product 2","2014-06-01","California",7.8,5.9,0.70000000000000018,79,13.389830508474576,2686,455.25423728813558,317,25,32,38,13,108,0.52777777777777779]
["Team I","Noelani","Product 1","2014-06-01","Colorado",8.9,6.8000000000000007,0.3,71,10.441176470588234,2414,354.99999999999994,365,30,35,33,14,112,0.5803571428571429]
["Team I","Portia","Product 2","2014-06-01","Connecticut",9.1,6.8,0.8,66,9.7058823529411775,2244,330,396,25,39,37,11,112,0.5714285714285714]
["Team I","Melodie","Product 1","2014-06-01","Florida",7.7,5.2,0.2,68,13.076923076923077,2312,444.61538461538458,319,27,38,40,13,118,0.55084745762711862]
["Team I","Yolanda","Product 2","2014-06-01","Hawaii",8.6999999999999993,5.9999999999999991,0.6,61,10.166666666666668,2074,345.66666666666674,329,24,32,33,14,103,0.5436893203883495]
["Team I","Serina","Product 1","2014-06-01","Alabama",8.5,5.6,0.5,60,10.714285714285715,2040,364.28571428571433,333,29,34,35,12,110,0.57272727272727275]
["Team J","Jena","Product 2","2014-06-01","California",9.3000000000000007,6.2000000000000011,0.70000000000000018,52,8.3870967741935463,1768,285.16129032258061,386,20,39,38,12,109,0.54128440366972475]
["Team J","Fleur","Product 1","2014-06-01","Colorado",8.8000000000000007,5.5000000000000009,0.3,49,8.9090909090909083,1666,302.90909090909088,329,26,36,39,10,111,0.55855855855855852]
["Team J","Illiana","Product 2","2014-06-01","Connecticut",8.6,5.0999999999999996,0.8,42,8.2352941176470598,1428,280,332,22,39,32,11,104,0.58653846153846156]
["Team J","Jeremy","Product 1","2014-06-01","Florida",8.7999999999999989,5.0999999999999988,0.2,30,5.8823529411764719,1020,200.00000000000006,384,21,37,39,11,108,0.53703703703703709]
["Team J","Oscar","Product 2","2014-06-01","Hawaii",7.2,3.3000000000000003,0.6,32,9.6969696969696955,1088,329.69696969696969,327,21,38,36,12,107,0.55140186915887845]
["Team J","Luke","Product 1","2014-06-01","Alabama",7,2.9000000000000004,0.5,40,13.793103448275861,1360,468.96551724137925,396,24,39,31,10,104,0.60576923076923073]
["Team J","Addison","Product 2","2014-06-01","California",7,2.7,0.70000000000000018,43,15.925925925925926,1462,541.48148148148141,350,29,30,32,12,103,0.57281553398058249]
["Team J","Alec","Product 1","2014-06-01","Colorado",6.8000000000000007,2.3000000000000007,0.3,51,22.173913043478255,1734,753.91304347826065,300,23,39,34,14,110,0.5636363636363636]
["Team J","Rafael","Product 2","2014-06-01","Connecticut",5.5,0.79999999999999982,0.8,50,62.500000000000014,1700,2125.0000000000005,316,29,35,33,10,107,0.59813084112149528]
["Team J","Hoyt","Product 1","2014-06-01","Florida",5.6,4.6999999999999993,0.2,55,11.702127659574471,1870,397.872340425532,384,21,37,39,11,108,0.53703703703703709]
["Team J","Abel","Product 2","2014-06-01","Hawaii",4.5,3.4,0.6,62,18.235294117647058,2108,620,327,21,38,36,12,107,0.55140186915887845]

{"sheet":"Summary","index":2,"n_rows":47,"n_cols":11,"rows_kept":47,"cut":false,"hidden":false,"merged":[]}
["Best Selling Product by Region"]
[null,"Product 1","Product 2","Login Hours","Total Talk Time","Sales","Sales Per Hour","Revenue","Revenue Per Hour","Calls","CSAT%"]
["Alabama",{"$f":"SUMIFS('Team Performance'!$I:$I,'Team Performance'!$E:$E,$A3,'Team Performance'!$C:$C,B$2)","v":951},{"$f":"SUMIFS('Team Performance'!$I:$I,'Team Performance'!$E:$E,$A3,'Team Performance'!$C:$C,C$2)","v":0},{"$f":"SUMIFS('Team Performance'!$F:$F,'Team Performance'!$E:$E,$A3)","v":131.69999999999999},{"$f":"SUMIFS('Team Performance'!$G:$G,'Team Performance'!$E:$E,$A3)","v":91.6},{"$f":"SUMIFS('Team Performance'!$I:$I,'Team Performance'!$E:$E,$A3)","v":951},{"$f":"SUMIFS('Team Performance'!$J:$J,'Team Performance'!$E:$E,$A3)","v":202.64162611646452},{"$f":"SUMIFS('Team Performance'!$K:$K,'Team Performance'!$E:$E,$A3)","v":32334},{"$f":"SUMIFS('Team Performance'!$L:$L,'Team Performance'!$E:$E,$A3)","v":6889.8152879597937},{"$f":"SUMIFS('Team Performance'!$M:$M,'Team Performance'!$E:$E,$A3)","v":5921},{"$f":"AVERAGEIF('Team Performance'!$E:$E,$A3,'Team Performance'!$S:$S)","v":0.5384868557365462}]
["California",{"$f":"SUMIFS('Team Performance'!$I:$I,'Team Performance'!$E:$E,$A4,'Team Performance'!$C:$C,B$2)","v":0},{"$f":"SUMIFS('Team Performance'!$I:$I,'Team Performance'!$E:$E,$A4,'Team Performance'!$C:$C,C$2)","v":941},{"$f":"SUMIFS('Team Performance'!$F:$F,'Team Performance'!$E:$E,$A4)","v":131.5},{"$f":"SUMIFS('Team Performance'!$G:$G,'Team Performance'!$E:$E,$A4)","v":88},{"$f":"SUMIFS('Team Performance'!$I:$I,'Team Performance'!$E:$E,$A4)","v":941},{"$f":"SUMIFS('Team Performance'!$J:$J,'Team Performance'!$E:$E,$A4)","v":217.23519923015445},{"$f":"SUMIFS('Team Performance'!$K:$K,'Team Performance'!$E:$E,$A4)","v":31994},{"$f":"SUMIFS('Team Performance'!$L:$L,'Team Performance'!$E:$E,$A4)","v":7385.9967738252508},{"$f":"SUMIFS('Team Performance'!$M:$M,'Team Performance'!$E:$E,$A4)","v":5901},{"$f":"AVERAGEIF('Team Performance'!$E:$E,$A4,'Team Performance'!$S:$S)","v":0.55942693936950216}]
["Colorado",{"$f":"SUMIFS('Team Performance'!$I:$I,'Team Performance'!$E:$E,$A5,'Team Performance'!$C:$C,B$2)","v":929},{"$f":"SUMIFS('Team Performance'!$I:$I,'Team Performance'!$E:$E,$A5,'Team Performance'!$C:$C,C$2)","v":0},{"$f":"SUMIFS('Team Performance'!$F:$F,'Team Performance'!$E:$E,$A5)","v":131.4},{"$f":"SUMIFS('Team Performance'!$G:$G,'Team Performance'!$E:$E,$A5)","v":88.5},{"$f":"SUMIFS('Team Performance'!$I:$I,'Team Performance'!$E:$E,$A5)","v":929},{"$f":"SUMIFS('Team Performance'!$J:$J,'Team Performance'!$E:$E,$A5)","v":224.47321973167433},{"$f":"SUMIFS('Team Performance'!$K:$K,'Team Performance'!$E:$E,$A5)","v":31586},{"$f":"SUMIFS('Team Performance'!$L:$L,'Team Performance'!$E:$E,$A5)","v":7632.0894708769274},{"$f":"SUMIFS('Team Performance'!$M:$M,'Team Performance'!$E:$E,$A5)","v":5776},{"$f":"AVERAGEIF('Team Performance'!$E:$E,$A5,'Team Performance'!$S:$S)","v":0.57229362995924582}]
["Connecticut",{"$f":"SUMIFS('Team Performance'!$I:$I,'Team Performance'!$E:$E,$A6,'Team Performance'!$C:$C,B$2)","v":0},{"$f":"SUMIFS('Team Performance'!$I:$I,'Team Performance'!$E:$E,$A6,'Team Performance'!$C:$C,C$2)","v":954},{"$f":"SUMIFS('Team Performance'!$F:$F,'Team Performance'!$E:$E,$A6)","v":130.69999999999999},{"$f":"SUMIFS('Team Performance'!$G:$G,'Team Performance'!$E:$E,$A6)","v":84.399999999999977},{"$f":"SUMIFS('Team Performance'!$I:$I,'Team Performance'!$E:$E,$A6)","v":954},{"$f":"SUMIFS('Team Performance'!$J:$J,'Team Performance'!$E:$E,$A6)","v":257.0507822860684},{"$f":"SUMIFS('Team Performance'!$K:$K,'Team Performance'!$E:$E,$A6)","v":32436},{"$f":"SUMIFS('Team Performance'!$L:$L,'Team Performance'!$E:$E,$A6)","v":8739.7265977263251},{"$f":"SUMIFS('Team Performance'!$M:$M,'Team Performance'!$E:$E,$A6)","v":6228},{"$f":"AVERAGEIF('Team Performance'!$E:$E,$A6,'Team Performance'!$S:$S)","v":0.54474591220212087}]
["Florida",{"$f":"SUMIFS('Team Performance'!$I:$I,'Team Performance'!$E:$E,$A7,'Team Performance'!$C:$C,B$2)","v":950},{"$f":"SUMIFS('Team Performance'!$I:$I,'Team Performance'!$E:$E,$A7,'Team Performance'!$C:$C,C$2)","v":0},{"$f":"SUMIFS('Team Performance'!$F:$F,'Team Performance'!$E:$E,$A7)","v":130.1},{"$f":"SUMIFS('Team Performance'!$G:$G,'Team Performance'!$E:$E,$A7)","v":91.6},{"$f":"SUMIFS('Team Performance'!$I:$I,'Team Performance'!$E:$E,$A7)","v":950},{"$f":"SUMIFS('Team Performance'!$J:$J,'Team Performance'!$E:$E,$A7)","v":187.07468353217754},{"$f":"SUMIFS('Team Performance'!$K:$K,'Team Performance'!$E:$E,$A7)","v":32300},{"$f":"SUMIFS('Team Performance'!$L:$L,'Team Performance'!$E:$E,$A7)","v":6360.5392400940364},{"$f":"SUMIFS('Team Performance'!$M:$M,'Team Performance'!$E:$E,$A7)","v":6155},{"$f":"AVERAGEIF('Team Performance'!$E:$E,$A7,'Team Performance'!$S:$S)","v":0.56156961871557709}]
["Hawaii",{"$f":"SUMIFS('Team Performance'!$I:$I,'Team Performance'!$E:$E,$A8,'Team Performance'!$C:$C,B$2)","v":0},{"$f":"SUMIFS('Team Performance'!$I:$I,'Team Performance'!$E:$E,$A8,'Team Performance'!$C:$C,C$2)","v":950},{"$f":"SUMIFS('Team Performance'!$F:$F,'Team Performance'!$E:$E,$A8)","v":129.39999999999998},{"$f":"SUMIFS('Team Performance'!$G:$G,'Team Performance'!$E:$E,$A8)","v":87.500000000000014},{"$f":"SUMIFS('Team Performance'!$I:$I,'Team Performance'!$E:$E,$A8)","v":950},{"$f":"SUMIFS('Team Performance'!$J:$J,'Team Performance'!$E:$E,$A8)","v":204.24832699901083},{"$f":"SUMIFS('Team Performance'!$K:$K,'Team Performance'!$E:$E,$A8)","v":32300},{"$f":"SUMIFS('Team Performance'!$L:$L,'Team Performance'!$E:$E,$A8)","v":6944.4431179663679},{"$f":"SUMIFS('Team Performance'!$M:$M,'Team Performance'!$E:$E,$A8)","v":5876},{"$f":"AVERAGEIF('Team Performance'!$E:$E,$A8,'Team Performance'!$S:$S)","v":0.55003053227824383}]
[]
[]
["Best Selling Product by Team"]
[null,"Product 1","Product 2","Login Hours","Total Talk Time","Sales","Sales Per Hour","Revenue","Revenue Per Hour","Calls","CSAT%"]
["Team A",{"$f":"SUMIFS('Team Performance'!$I:$I,'Team Performance'!$A:$A,$A13,'Team Performance'!$C:$C,B$12)","v":271},{"$f":"SUMIFS('Team Performance'!$I:$I,'Team Performance'!$A:$A,$A13,'Team Performance'!$C:$C,C$12)","v":307},{"$f":"SUMIFS('Team Performance'!$F:$F,'Team Performance'!$A:$A,$A13)","v":85.9},{"$f":"SUMIFS('Team Performance'!$G:$G,'Team Performance'!$A:$A,$A13)","v":75.900000000000006},{"$f":"SUMIFS('Team Performance'!$I:$I,'Team Performance'!$A:$A,$A13)","v":578},{"$f":"SUMIFS('Team Performance'!$J:$J,'Team Performance'!$A:$A,$A13)","v":77.976565457688494},{"$f":"SUMIFS('Team Performance'!$K:$K,'Team Performance'!$A:$A,$A13)","v":19652},{"$f":"SUMIFS('Team Performance'!$L:$L,'Team Performance'!$A:$A,$A13)","v":2651.2032255614095},{"$f":"SUMIFS('Team Performance'!$M:$M,'Team Performance'!$A:$A,$A13)","v":3461},{"$f":"AVERAGEIF('Team Performance'!$A:$A,$A13,'Team Performance'!$S:$S)","v":0.56966084595280664}]
["Team B",{"$f":"SUMIFS('Team Performance'!$I:$I,'Team Performance'!$A:$A,$A14,'Team Performance'!$C:$C,B$12)","v":284},{"$f":"SUMIFS('Team Performance'!$I:$I,'Team Performance'!$A:$A,$A14,'Team Performance'!$C:$C,C$12)","v":258},{"$f":"SUMIFS('Team Performance'!$F:$F,'Team Performance'!$A:$A,$A14)","v":71.000000000000014},{"$f":"SUMIFS('Team Performance'!$G:$G,'Team Performance'!$A:$A,$A14)","v":53.8},{"$f":"SUMIFS('Team Performance'!$I:$I,'Team Performance'!$A:$A,$A14)","v":542},{"$f":"SUMIFS('Team Performance'!$J:$J,'Team Performance'!$A:$A,$A14)","v":129.83007638052175},{"$f":"SUMIFS('Team Performance'!$K:$K,'Team Performance'!$A:$A,$A14)","v":18428},{"$f":"SUMIFS('Team Performance'!$L:$L,'Team Performance'!$A:$A,$A14)","v":4414.2225969377396},{"$f":"SUMIFS('Team Performance'!$M:$M,'Team Performance'!$A:$A,$A14)","v":3443},{"$f":"AVERAGEIF('Team Performance'!$A:$A,$A14,'Team Performance'!$S:$S)","v":0.56441901125030225}]
["Team C",{"$f":"SUMIFS('Team Performance'!$I:$I,'Team Performance'!$A:$A,$A15,'Team Performance'!$C:$C,B$12)","v":296},{"$f":"SUMIFS('Team Performance'!$I:$I,'Team Performance'!$A:$A,$A15,'Team Performance'!$C:$C,C$12)","v":309},{"$f":"SUMIFS('Team Performance'!$F:$F,'Team Performance'!$A:$A,$A15)","v":81.2},{"$f":"SUMIFS('Team Performance'!$G:$G,'Team Performance'!$A:$A,$A15)","v":63.199999999999996},{"$f":"SUMIFS('Team Performance'!$I:$I,'Team Performance'!$A:$A,$A15)","v":605},{"$f":"SUMIFS('Team Performance'!$J:$J,'Team Performance'!$A:$A,$A15)","v":105.40827299157202},{"$f":"SUMIFS('Team Performance'!$K:$K,'Team Performance'!$A:$A,$A15)","v":20570},{"$f":"SUMIFS('Team Performance'!$L:$L,'Team Performance'!$A:$A,$A15)","v":3583.881281713449},{"$f":"SUMIFS('Team Performance'!$M:$M,'Team Performance'!$A:$A,$A15)","v":3584},{"$f":"AVERAGEIF('Team Performance'!$A:$A,$A15,'Team Performance'!$S:$S)","v":0.55620873778563007}]
["Team D",{"$f":"SUMIFS('Team Performance'!$I:$I,'Team Performance'!$A:$A,$A16,'Team Performance'!$C:$C,B$12)","v":247},{"$f":"SUMIFS('Team Performance'!$I:$I,'Team Performance'!$A:$A,$A16,'Team Performance'!$C:$C,C$12)","v":235},{"$f":"SUMIFS('Team Performance'!$F:$F,'Team Performance'!$A:$A,$A16)","v":74.8},{"$f":"SUMIFS('Team Performance'!$G:$G,'Team Performance'!$A:$A,$A16)","v":36.799999999999997},{"$f":"SUMIFS('Team Performance'!$I:$I,'Team Performance'!$A:$A,$A16)","v":482},{"$f":"SUMIFS('Team Performance'!$J:$J,'Team Performance'!$A:$A,$A16)","v":150.60265387236865},{"$f":"SUMIFS('Team Performance'!$K:$K,'Team Performance'!$A:$A,$A16)","v":16388},{"$f":"SUMIFS('Team Performance'!$L:$L,'Team Performance'!$A:$A,$A16)","v":5120.4902316605339},{"$f":"SUMIFS('Team Performance'!$M:$M,'Team Performance'!$A:$A,$A16)","v":3479},{"$f":"AVERAGEIF('Team Performance'!$A:$A,$A16,'Team Performance'!$S:$S)","v":0.52536682741771468}]
["Team E",{"$f":"SUMIFS('Team Performance'!$I:$I,'Team Performance'!$A:$A,$A17,'Team Performance'!$C:$C,B$12)","v":330},{"$f":"SUMIFS('Team Performance'!$I:$I,'Team Performance'!$A:$A,$A17,'Team Performance'!$C:$C,C$12)","v":330},{"$f":"SUMIFS('Team Performance'!$F:$F,'Team Performance'!$A:$A,$A17)","v":75.2},{"$f":"SUMIFS('Team Performance'!$G:$G,'Team Performance'!$A:$A,$A17)","v":57.2},{"$f":"SUMIFS('Team Performance'!$I:$I,'Team Performance'!$A:$A,$A17)","v":660},{"$f":"SUMIFS('Team Performance'!$J:$J,'Team Performance'!$A:$A,$A17)","v":134.73545486045487},{"$f":"SUMIFS('Team Performance'!$K:$K,'Team Performance'!$A:$A,$A17)","v":22440},{"$f":"SUMIFS('Team Performance'!$L:$L,'Team Performance'!$A:$A,$A17)","v":4581.0054652554645},{"$f":"SUMIFS('Team Performance'!$M:$M,'Team Performance'!$A:$A,$A17)","v":3606},{"$f":"AVERAGEIF('Team Performance'!$A:$A,$A17,'Team Performance'!$S:$S)","v":0.52047160999759368}]
["Team F",{"$f":"SUMIFS('Team Performance'!$I:$I,'Team Performance'!$A:$A,$A18,'Team Performance'!$C:$C,B$12)","v":232},{"$f":"SUMIFS('Team Performance'!$I:$I,'Team Performance'!$A:$A,$A18,'Team Performance'!$C:$C,C$12)","v":235},{"$f":"SUMIFS('Team Performance'!$F:$F,'Team Performance'!$A:$A,$A18)","v":82.5},{"$f":"SUMIFS('Team Performance'!$G:$G,'Team Performance'!$A:$A,$A18)","v":44.5},{"$f":"SUMIFS('Team Performance'!$I:$I,'Team Performance'!$A:$A,$A18)","v":467},{"$f":"SUMIFS('Team Performance'!$J:$J,'Team Performance'!$A:$A,$A18)","v":119.1627650687001},{"$f":"SUMIFS('Team Performance'!$K:$K,'Team Performance'!$A:$A,$A18)","v":15878},{"$f":"SUMIFS('Team Performance'!$L:$L,'Team Performance'!$A:$A,$A18)","v":4051.5340123358042},{"$f":"SUMIFS('Team Performance'!$M:$M,'Team Performance'!$A:$A,$A18)","v":3503},{"$f":"AVERAGEIF('Team Performance'!$A:$A,$A18,'Team Performance'!$S:$S)","v":0.56272672073591068}]
["Team G",{"$f":"SUMIFS('Team Performance'!$I:$I,'Team Performance'!$A:$A,$A19,'Team Performance'!$C:$C,B$12)","v":329},{"$f":"SUMIFS('Team Performance'!$I:$I,'Team Performance'!$A:$A,$A19,'Team Performance'!$C:$C,C$12)","v":337},{"$f":"SUMIFS('Team Performance'!$F:$F,'Team Performance'!$A:$A,$A19)","v":69.7},{"$f":"SUMIFS('Team Performance'!$G:$G,'Team Performance'!$A:$A,$A19)","v":51.7},{"$f":"SUMIFS('Team Performance'!$I:$I,'Team Performance'!$A:$A,$A19)","v":666},{"$f":"SUMIFS('Team Performance'!$J:$J,'Team Performance'!$A:$A,$A19)","v":150.79479782531135},{"$f":"SUMIFS('Team Performance'!$K:$K,'Team Performance'!$A:$A,$A19)","v":22644},{"$f":"SUMIFS('Team Performance'!$L:$L,'Team Performance'!$A:$A,$A19)","v":5127.023126060586},{"$f":"SUMIFS('Team Performance'!$M:$M,'Team Performance'!$A:$A,$A19)","v":3592},{"$f":"AVERAGEIF('Team Performance'!$A:$A,$A19,'Team Performance'!$S:$S)","v":0.54848647360039382}]
["Team H",{"$f":"SUMIFS('Team Performance'!$I:$I,'Team Performance'!$A:$A,$A20,'Team Performance'!$C:$C,B$12)","v":224},{"$f":"SUMIFS('Team Performance'!$I:$I,'Team Performance'!$A:$A,$A20,'Team Performance'!$C:$C,C$12)","v":226},{"$f":"SUMIFS('Team Performance'!$F:$F,'Team Performance'!$A:$A,$A20)","v":85.100000000000009},{"$f":"SUMIFS('Team Performance'!$G:$G,'Team Performance'!$A:$A,$A20)","v":47.100000000000009},{"$f":"SUMIFS('Team Performance'!$I:$I,'Team Performance'!$A:$A,$A20)","v":450},{"$f":"SUMIFS('Team Performance'!$J:$J,'Team Performance'!$A:$A,$A20)","v":101.62359205197714},{"$f":"SUMIFS('Team Performance'!$K:$K,'Team Performance'!$A:$A,$A20)","v":15300},{"$f":"SUMIFS('Team Performance'!$L:$L,'Team Performance'!$A:$A,$A20)","v":3455.2021297672227},{"$f":"SUMIFS('Team Performance'!$M:$M,'Team Performance'!$A:$A,$A20)","v":3525},{"$f":"AVERAGEIF('Team Performance'!$A:$A,$A20,'Team Performance'!$S:$S)","v":0.57118908673530666}]
["Team I",{"$f":"SUMIFS('Team Performance'!$I:$I,'Team Performance'!$A:$A,$A21,'Team Performance'!$C:$C,B$12)","v":392},{"$f":"SUMIFS('Team Performance'!$I:$I,'Team Performance'!$A:$A,$A21,'Team Performance'!$C:$C,C$12)","v":327},{"$f":"SUMIFS('Team Performance'!$F:$F,'Team Performance'!$A:$A,$A21)","v":80.3},{"$f":"SUMIFS('Team Performance'!$G:$G,'Team Performance'!$A:$A,$A21)","v":59.4},{"$f":"SUMIFS('Team Performance'!$I:$I,'Team Performance'!$A:$A,$A21)","v":719},{"$f":"SUMIFS('Team Performance'!$J:$J,'Team Performance'!$A:$A,$A21)","v":137.14849075297639},{"$f":"SUMIFS('Team Performance'!$K:$K,'Team Performance'!$A:$A,$A21)","v":24446},{"$f":"SUMIFS('Team Performance'!$L:$L,'Team Performance'!$A:$A,$A21)","v":4663.0486856011976},{"$f":"SUMIFS('Team Performance'!$M:$M,'Team Performance'!$A:$A,$A21)","v":3833},{"$f":"AVERAGEIF('Team Performance'!$A:$A,$A21,'Team Performance'!$S:$S)","v":0.5602277236380161}]
["Team J",{"$f":"SUMIFS('Team Performance'!$I:$I,'Team Performance'!$A:$A,$A22,'Team Performance'!$C:$C,B$12)","v":225},{"$f":"SUMIFS('Team Performance'!$I:$I,'Team Performance'!$A:$A,$A22,'Team Performance'!$C:$C,C$12)","v":281},{"$f":"SUMIFS('Team Performance'!$F:$F,'Team Performance'!$A:$A,$A22)","v":79.099999999999994},{"$f":"SUMIFS('Team Performance'!$G:$G,'Team Performance'!$A:$A,$A22)","v":41.999999999999993},{"$f":"SUMIFS('Team Performance'!$I:$I,'Team Performance'!$A:$A,$A22)","v":506},{"$f":"SUMIFS('Team Performance'!$J:$J,'Team Performance'!$A:$A,$A22)","v":185.44116863397926},{"$f":"SUMIFS('Team Performance'!$K:$K,'Team Performance'!$A:$A,$A22)","v":17204},{"$f":"SUMIFS('Team Performance'!$L:$L,'Team Performance'!$A:$A,$A22)","v":6304.9997335552944},{"$f":"SUMIFS('Team Performance'!$M:$M,'Team Performance'!$A:$A,$A22)","v":3831},{"$f":"AVERAGEIF('Team Performance'!$A:$A,$A22,'Team Performance'!$S:$S)","v":0.56396465506056803}]
[]
[]
["% Productive Time - Region"]
["Alabama",{"$f":"E3/D3","v":0.69552012148823084}]
["California",{"$f":"E4/D4","v":0.66920152091254748}]
["Colorado",0.67351598173515981]
["Connecticut",0.64575363427697008]
["Florida",0.70407378939277476]
["Hawaii",0.67619783616692453]
[]
[]
["% Productive Time - Team"]
["Team A",{"$f":"E13/D13","v":0.8835855646100117},{"$f":"1-B35","v":0.1164144353899883},{"$f":"SUM(B35:C35)","v":1}]
["Team B",{"$f":"E14/D14","v":0.7577464788732392},{"$f":"1-B36","v":0.2422535211267608},{"$f":"SUM(B36:C36)","v":1}]
["Team C",0.7783251231527093,0.2216748768472907,1]
["Team D",0.49197860962566842,0.50802139037433158,1]
["Team E",0.76063829787234039,0.23936170212765961,1]
["Team F",0.53939393939393943,0.46060606060606057,1]
["Team G",0.74175035868005745,0.25824964131994255,1]
["Team H",0.5534665099882492,0.4465334900117508,1]
["Team I",0.73972602739726023,0.26027397260273977,1]
["Team J",0.53097345132743357,0.46902654867256643,1]
[]
[]
["Top 10 Team Members"]

{"sheet":"MD","index":3,"n_rows":16,"n_cols":8,"rows_kept":16,"cut":false,"hidden":false,"merged":[]}
[]
[]
[]
[]
[]
[null,null,null,null,null,"Team","Product","Region"]
[null,null,null,null,null,"Team A","Product 1","Alabama"]
[null,null,null,null,null,"Team B","Product 2","California"]
[null,null,null,null,null,"Team C",null,"Colorado"]
[null,null,null,null,null,"Team D",null,"Connecticut"]
[null,null,null,null,null,"Team E",null,"Florida"]
[null,null,null,null,null,"Team F",null,"Hawaii"]
[null,null,null,null,null,"Team G"]
[null,null,null,null,null,"Team H"]
[null,null,null,null,null,"Team I"]
[null,null,null,null,null,"Team J"]

{"sheet":"Top 10 Team","index":4,"n_rows":103,"n_cols":4,"rows_kept":103,"cut":false,"hidden":false,"merged":[]}
[{"$f":"'Team Performance'!B1","v":"Team Members"},{"$f":"'Team Performance'!A1","v":"Team"},{"$f":"'Team Performance'!E1","v":"Region"},{"$f":"'Team Performance'!S1","v":"CSAT% (Customer Satisfaction)"}]
[{"$f":"'Team Performance'!B4","v":"Constance"},{"$f":"'Team Performance'!A4","v":"Team A"},{"$f":"'Team Performance'!E4","v":"Colorado"},{"$f":"'Team Performance'!S4","v":0.63716814159292035}]
[{"$f":"'Team Performance'!B50","v":"Miriam"},{"$f":"'Team Performance'!A50","v":"Team E"},{"$f":"'Team Performance'!E50","v":"Alabama"},{"$f":"'Team Performance'!S50","v":0.63063063063063063}]
[{"$f":"'Team Performance'!B57","v":"Riley"},{"$f":"'Team Performance'!A57","v":"Team F"},{"$f":"'Team Performance'!E57","v":"California"},{"$f":"'Team Performance'!S57","v":0.62385321100917435}]
[{"$f":"'Team Performance'!B98","v":"Luke"},{"$f":"'Team Performance'!A98","v":"Team J"},{"$f":"'Team Performance'!E98","v":"Alabama"},{"$f":"'Team Performance'!S98","v":0.60576923076923073}]
[{"$f":"'Team Performance'!B29","v":"Audra"},{"$f":"'Team Performance'!A29","v":"Team C"},{"$f":"'Team Performance'!E29","v":"Connecticut"},{"$f":"'Team Performance'!S29","v":0.5982142857142857}]
[{"$f":"'Team Performance'!B73","v":"Xerxes"},{"$f":"'Team Performance'!A73","v":"Team H"},{"$f":"'Team Performance'!E73","v":"Hawaii"},{"$f":"'Team Performance'!S73","v":0.5982142857142857}]
[{"$f":"'Team Performance'!B101","v":"Rafael"},{"$f":"'Team Performance'!A101","v":"Team J"},{"$f":"'Team Performance'!E101","v":"Connecticut"},{"$f":"'Team Performance'!S101","v":0.59813084112149528}]
[{"$f":"'Team Performance'!B39","v":"Madeson"},{"$f":"'Team Performance'!A39","v":"Team D"},{"$f":"'Team Performance'!E39","v":"California"},{"$f":"'Team Performance'!S39","v":0.59459459459459463}]
[{"$f":"'Team Performance'!B76","v":"Phyllis"},{"$f":"'Team Performance'!A76","v":"Team H"},{"$f":"'Team Performance'!E76","v":"Colorado"},{"$f":"'Team Performance'!S76","v":0.59405940594059403}]
[{"$f":"'Team Performance'!B12","v":"Rowan"},{"$f":"'Team Performance'!A12","v":"Team B"},{"$f":"'Team Performance'!E12","v":"Florida"},{"$f":"'Team Performance'!S12","v":0.59183673469387754}]
[{"$f":"'Team Performance'!B84","v":"Galena"},{"$f":"'Team Performance'!A84","v":"Team I"},{"$f":"'Team Performance'!E84","v":"Florida"},{"$f":"'Team Performance'!S84","v":0.58823529411764708}]
[{"$f":"'Team Performance'!B95","v":"Illiana"},{"$f":"'Team Performance'!A95","v":"Team J"},{"$f":"'Team Performance'!E95","v":"Connecticut"},{"$f":"'Team Performance'!S95","v":0.58653846153846156}]
[{"$f":"'Team Performance'!B10","v":"Darryl"},{"$f":"'Team Performance'!A10","v":"Team A"},{"$f":"'Team Performance'!E10","v":"Colorado"},{"$f":"'Team Performance'!S10","v":0.58620689655172409}]
[{"$f":"'Team Performance'!B80","v":"Serena"},{"$f":"'Team Performance'!A80","v":"Team H"},{"$f":"'Team Performance'!E80","v":"Alabama"},{"$f":"'Team Performance'!S80","v":0.58490566037735847}]
[{"$f":"'Team Performance'!B43","v":"Heather"},{"$f":"'Team Performance'!A43","v":"Team E"},{"$f":"'Team Performance'!E43","v":"Hawaii"},{"$f":"'Team Performance'!S43","v":0.58415841584158412}]
[{"$f":"'Team Performance'!B27","v":"Maris"},{"$f":"'Team Performance'!A27","v":"Team C"},{"$f":"'Team Performance'!E27","v":"California"},{"$f":"'Team Performance'!S27","v":0.58407079646017701}]
[{"$f":"'Team Performance'!B21","v":"Inez"},{"$f":"'Team Performance'!A21","v":"Team B"},{"$f":"'Team Performance'!E21","v":"California"},{"$f":"'Team Performance'!S21","v":0.58333333333333337}]
[{"$f":"'Team Performance'!B75","v":"Zenia"},{"$f":"'Team Performance'!A75","v":"Team H"},{"$f":"'Team Performance'!E75","v":"California"},{"$f":"'Team Performance'!S75","v":0.58181818181818179}]
[{"$f":"'Team Performance'!B16","v":"Iona"},{"$f":"'Team Performance'!A16","v":"Team B"},{"$f":"'Team Performance'!E16","v":"Colorado"},{"$f":"'Team Performance'!S16","v":0.580952380952381}]
[{"$f":"'Team Performance'!B58","v":"Cleo"},{"$f":"'Team Performance'!A58","v":"Team F"},{"$f":"'Team Performance'!E58","v":"Colorado"},{"$f":"'Team Performance'!S58","v":0.580952380952381}]
[{"$f":"'Team Performance'!B79","v":"Kirestin"},{"$f":"'Team Performance'!A79","v":"Team H"},{"$f":"'Team Performance'!E79","v":"Hawaii"},{"$f":"'Team Performance'!S79","v":0.580952380952381}]
[{"$f":"'Team Performance'!B18","v":"Brynne"},{"$f":"'Team Performance'!A18","v":"Team B"},{"$f":"'Team Performance'!E18","v":"Florida"},{"$f":"'Team Performance'!S18","v":0.5803571428571429}]
[{"$f":"'Team Performance'!B82","v":"Gretchen"},{"$f":"'Team Performance'!A82","v":"Team I"},{"$f":"'Team Performance'!E82","v":"Colorado"},{"$f":"'Team Performance'!S82","v":0.5803571428571429}]
[{"$f":"'Team Performance'!B88","v":"Noelani"},{"$f":"'Team Performance'!A88","v":"Team I"},{"$f":"'Team Performance'!E88","v":"Colorado"},{"$f":"'Team Performance'!S88","v":0.5803571428571429}]
[{"$f":"'Team Performance'!B52","v":"Ivory"},{"$f":"'Team Performance'!A52","v":"Team F"},{"$f":"'Team Performance'!E52","v":"Colorado"},{"$f":"'Team Performance'!S52","v":0.57851239669421484}]
[{"$f":"'Team Performance'!B7","v":"Tashya"},{"$f":"'Team Performance'!A7","v":"Team A"},{"$f":"'Team Performance'!E7","v":"Hawaii"},{"$f":"'Team Performance'!S7","v":0.57692307692307687}]
[{"$f":"'Team Performance'!B35","v":"Hermione"},{"$f":"'Team Performance'!A35","v":"Team D"},{"$f":"'Team Performance'!E35","v":"Connecticut"},{"$f":"'Team Performance'!S35","v":0.57692307692307687}]
[{"$f":"'Team Performance'!B2","v":"Sydnee"},{"$f":"'Team Performance'!A2","v":"Team A"},{"$f":"'Team Performance'!E2","v":"Alabama"},{"$f":"'Team Performance'!S2","v":0.57657657657657657}]
[{"$f":"'Team Performance'!B30","v":"Rosalyn"},{"$f":"'Team Performance'!A30","v":"Team C"},{"$f":"'Team Performance'!E30","v":"Florida"},{"$f":"'Team Performance'!S30","v":0.57657657657657657}]
[{"$f":"'Team Performance'!B72","v":"Frances"},{"$f":"'Team Performance'!A72","v":"Team H"},{"$f":"'Team Performance'!E72","v":"Florida"},{"$f":"'Team Performance'!S72","v":0.57657657657657657}]
[{"$f":"'Team Performance'!B67","v":"Medge"},{"$f":"'Team Performance'!A67","v":"Team G"},{"$f":"'Team Performance'!E67","v":"Hawaii"},{"$f":"'Team Performance'!S67","v":0.5757575757575758}]
[{"$f":"'Team Performance'!B5","v":"Nola"},{"$f":"'Team Performance'!A5","v":"Team A"},{"$f":"'Team Performance'!E5","v":"Connecticut"},{"$f":"'Team Performance'!S5","v":0.57547169811320753}]
[{"$f":"'Team Performance'!B8","v":"Flavia"},{"$f":"'Team Performance'!A8","v":"Team A"},{"$f":"'Team Performance'!E8","v":"Alabama"},{"$f":"'Team Performance'!S8","v":0.57547169811320753}]
[{"$f":"'Team Performance'!B20","v":"Gay"},{"$f":"'Team Performance'!A20","v":"Team B"},{"$f":"'Team Performance'!E20","v":"Alabama"},{"$f":"'Team Performance'!S20","v":0.57547169811320753}]
[{"$f":"'Team Performance'!B54","v":"Dai"},{"$f":"'Team Performance'!A54","v":"Team F"},{"$f":"'Team Performance'!E54","v":"Florida"},{"$f":"'Team Performance'!S54","v":0.57547169811320753}]
[{"$f":"'Team Performance'!B70","v":"Kirby"},{"$f":"'Team Performance'!A70","v":"Team G"},{"$f":"'Team Performance'!E70","v":"Colorado"},{"$f":"'Team Performance'!S70","v":0.57407407407407407}]
[{"$f":"'Team Performance'!B99","v":"Addison"},{"$f":"'Team Performance'!A99","v":"Team J"},{"$f":"'Team Performance'!E99","v":"California"},{"$f":"'Team Performance'!S99","v":0.57281553398058249}]
[{"$f":"'Team Performance'!B92","v":"Serina"},{"$f":"'Team Performance'!A92","v":"Team I"},{"$f":"'Team Performance'!E92","v":"Alabama"},{"$f":"'Team Performance'!S92","v":0.57272727272727275}]
[{"$f":"'Team Performance'!B6","v":"Libby"},{"$f":"'Team Performance'!A6","v":"Team A"},{"$f":"'Team Performance'!E6","v":"Florida"},{"$f":"'Team Performance'!S6","v":0.5714285714285714}]
[{"$f":"'Team Performance'!B89","v":"Portia"},{"$f":"'Team Performance'!A89","v":"Team I"},{"$f":"'Team Performance'!E89","v":"Connecticut"},{"$f":"'Team Performance'!S89","v":0.5714285714285714}]
[{"$f":"'Team Performance'!B60","v":"Britanney"},{"$f":"'Team Performance'!A60","v":"Team F"},{"$f":"'Team Performance'!E60","v":"Florida"},{"$f":"'Team Performance'!S60","v":0.56999999999999995}]
[{"$f":"'Team Performance'!B48","v":"Madeline"},{"$f":"'Team Performance'!A48","v":"Team E"},{"$f":"'Team Performance'!E48","v":"Florida"},{"$f":"'Team Performance'!S48","v":0.56910569105691056}]
[{"$f":"'Team Performance'!B34","v":"Ariel"},{"$f":"'Team Performance'!A34","v":"Team D"},{"$f":"'Team Performance'!E34","v":"Colorado"},{"$f":"'Team Performance'!S34","v":0.56896551724137934}]
[{"$f":"'Team Performance'!B53","v":"Stacy"},{"$f":"'Team Performance'!A53","v":"Team F"},{"$f":"'Team Performance'!E53","v":"Connecticut"},{"$f":"'Team Performance'!S53","v":0.56603773584905659}]
[{"$f":"'Team Performance'!B42","v":"Lacy"},{"$f":"'Team Performance'!A42","v":"Team E"},{"$f":"'Team Performance'!E42","v":"Florida"},{"$f":"'Team Performance'!S42","v":0.5643564356435643}]
[{"$f":"'Team Performance'!B100","v":"Alec"},{"$f":"'Team Performance'!A100","v":"Team J"},{"$f":"'Team Performance'!E100","v":"Colorado"},{"$f":"'Team Performance'!S100","v":0.5636363636363636}]
[{"$f":"'Team Performance'!B45","v":"Mercedes"},{"$f":"'Team Performance'!A45","v":"Team E"},{"$f":"'Team Performance'!E45","v":"California"},{"$f":"'Team Performance'!S45","v":0.56310679611650483}]
[{"$f":"'Team Performance'!B86","v":"Juliet"},{"$f":"'Team Performance'!A86","v":"Team I"},{"$f":"'Team Performance'!E86","v":"Alabama"},{"$f":"'Team Performance'!S86","v":0.5625}]
[{"$f":"'Team Performance'!B74","v":"Carolyn"},{"$f":"'Team Performance'!A74","v":"Team H"},{"$f":"'Team Performance'!E74","v":"Alabama"},{"$f":"'Team Performance'!S74","v":0.56000000000000005}]
[{"$f":"'Team Performance'!B31","v":"April"},{"$f":"'Team Performance'!A31","v":"Team C"},{"$f":"'Team Performance'!E31","v":"Hawaii"},{"$f":"'Team Performance'!S31","v":0.55882352941176472}]
[{"$f":"'Team Performance'!B64","v":"Rhoda"},{"$f":"'Team Performance'!A64","v":"Team G"},{"$f":"'Team Performance'!E64","v":"Colorado"},{"$f":"'Team Performance'!S64","v":0.55882352941176472}]
[{"$f":"'Team Performance'!B94","v":"Fleur"},{"$f":"'Team Performance'!A94","v":"Team J"},{"$f":"'Team Performance'!E94","v":"Colorado"},{"$f":"'Team Performance'!S94","v":0.55855855855855852}]
[{"$f":"'Team Performance'!B17","v":"Keelie"},{"$f":"'Team Performance'!A17","v":"Team B"},{"$f":"'Team Performance'!E17","v":"Connecticut"},{"$f":"'Team Performance'!S17","v":0.55752212389380529}]
[{"$f":"'Team Performance'!B69","v":"Regina"},{"$f":"'Team Performance'!A69","v":"Team G"},{"$f":"'Team Performance'!E69","v":"California"},{"$f":"'Team Performance'!S69","v":0.55555555555555558}]
[{"$f":"'Team Performance'!B38","v":"Lois"},{"$f":"'Team Performance'!A38","v":"Team D"},{"$f":"'Team Performance'!E38","v":"Alabama"},{"$f":"'Team Performance'!S38","v":0.55454545454545456}]
[{"$f":"'Team Performance'!B40","v":"Ariana"},{"$f":"'Team Performance'!A40","v":"Team D"},{"$f":"'Team Performance'!E40","v":"Colorado"},{"$f":"'Team Performance'!S40","v":0.55454545454545456}]
[{"$f":"'Team Performance'!B22","v":"Illana"},{"$f":"'Team Performance'!A22","v":"Team C"},{"$f":"'Team Performance'!E22","v":"Colorado"},{"$f":"'Team Performance'!S22","v":0.5544554455445545}]
[{"$f":"'Team Performance'!B24","v":"Olympia"},{"$f":"'Team Performance'!A24","v":"Team C"},{"$f":"'Team Performance'!E24","v":"Florida"},{"$f":"'Team Performance'!S24","v":0.5544554455445545}]
[{"$f":"'Team Performance'!B14","v":"Xantha"},{"$f":"'Team Performance'!A14","v":"Team B"},{"$f":"'Team Performance'!E14","v":"Alabama"},{"$f":"'Team Performance'!S14","v":0.55140186915887845}]
[{"$f":"'Team Performance'!B97","v":"Oscar"},{"$f":"'Team Performance'!A97","v":"Team J"},{"$f":"'Team Performance'!E97","v":"Hawaii"},{"$f":"'Team Performance'!S97","v":0.55140186915887845}]
[{"$f":"'Team Performance'!B103","v":"Abel"},{"$f":"'Team Performance'!A103","v":"Team J"},{"$f":"'Team Performance'!E103","v":"Hawaii"},{"$f":"'Team Performance'!S103","v":0.55140186915887845}]
[{"$f":"'Team Performance'!B90","v":"Melodie"},{"$f":"'Team Performance'!A90","v":"Team I"},{"$f":"'Team Performance'!E90","v":"Florida"},{"$f":"'Team Performance'!S90","v":0.55084745762711862}]
[{"$f":"'Team Performance'!B81","v":"Hilary"},{"$f":"'Team Performance'!A81","v":"Team H"},{"$f":"'Team Performance'!E81","v":"California"},{"$f":"'Team Performance'!S81","v":0.55045871559633031}]
[{"$f":"'Team Performance'!B26","v":"Shaine"},{"$f":"'Team Performance'!A26","v":"Team C"},{"$f":"'Team Performance'!E26","v":"Alabama"},{"$f":"'Team Performance'!S26","v":0.55000000000000004}]
[{"$f":"'Team Performance'!B63","v":"Pamela"},{"$f":"'Team Performance'!A63","v":"Team G"},{"$f":"'Team Performance'!E63","v":"California"},{"$f":"'Team Performance'!S63","v":0.54867256637168138}]
[{"$f":"'Team Performance'!B13","v":"Quyn"},{"$f":"'Team Performance'!A13","v":"Team B"},{"$f":"'Team Performance'!E13","v":"Hawaii"},{"$f":"'Team Performance'!S13","v":0.54807692307692313}]
[{"$f":"'Team Performance'!B77","v":"Ashely"},{"$f":"'Team Performance'!A77","v":"Team H"},{"$f":"'Team Performance'!E77","v":"Connecticut"},{"$f":"'Team Performance'!S77","v":0.54716981132075471}]
[{"$f":"'Team Performance'!B9","v":"Guinevere"},{"$f":"'Team Performance'!A9","v":"Team A"},{"$f":"'Team Performance'!E9","v":"California"},{"$f":"'Team Performance'!S9","v":0.54639175257731953}]
[{"$f":"'Team Performance'!B15","v":"Winifred"},{"$f":"'Team Performance'!A15","v":"Team B"},{"$f":"'Team Performance'!E15","v":"California"},{"$f":"'Team Performance'!S15","v":0.54639175257731953}]
[{"$f":"'Team Performance'!B47","v":"Amanda"},{"$f":"'Team Performance'!A47","v":"Team E"},{"$f":"'Team Performance'!E47","v":"Connecticut"},{"$f":"'Team Performance'!S47","v":0.54545454545454541}]
[{"$f":"'Team Performance'!B85","v":"Calista"},{"$f":"'Team Performance'!A85","v":"Team I"},{"$f":"'Team Performance'!E85","v":"Hawaii"},{"$f":"'Team Performance'!S85","v":0.54545454545454541}]
[{"$f":"'Team Performance'!B23","v":"Renee"},{"$f":"'Team Performance'!A23","v":"Team C"},{"$f":"'Team Performance'!E23","v":"Connecticut"},{"$f":"'Team Performance'!S23","v":0.54455445544554459}]
[{"$f":"'Team Performance'!B91","v":"Yolanda"},{"$f":"'Team Performance'!A91","v":"Team I"},{"$f":"'Team Performance'!E91","v":"Hawaii"},{"$f":"'Team Performance'!S91","v":0.5436893203883495}]
[{"$f":"'Team Performance'!B66","v":"Mallory"},{"$f":"'Team Performance'!A66","v":"Team G"},{"$f":"'Team Performance'!E66","v":"Florida"},{"$f":"'Team Performance'!S66","v":0.5431034482758621}]
[{"$f":"'Team Performance'!B51","v":"Quin"},{"$f":"'Team Performance'!A51","v":"Team E"},{"$f":"'Team Performance'!E51","v":"California"},{"$f":"'Team Performance'!S51","v":0.54205607476635509}]
[{"$f":"'Team Performance'!B46","v":"Courtney"},{"$f":"'Team Performance'!A46","v":"Team E"},{"$f":"'Team Performance'!E46","v":"Colorado"},{"$f":"'Team Performance'!S46","v":0.54128440366972475}]
[{"$f":"'Team Performance'!B59","v":"Patricia"},{"$f":"'Team Performance'!A59","v":"Team F"},{"$f":"'Team Performance'!E59","v":"Connecticut"},{"$f":"'Team Performance'!S59","v":0.54128440366972475}]
[{"$f":"'Team Performance'!B71","v":"Rae"},{"$f":"'Team Performance'!A71","v":"Team G"},{"$f":"'Team Performance'!E71","v":"Connecticut"},{"$f":"'Team Performance'!S71","v":0.54128440366972475}]
[{"$f":"'Team Performance'!B93","v":"Jena"},{"$f":"'Team Performance'!A93","v":"Team J"},{"$f":"'Team Performance'!E93","v":"California"},{"$f":"'Team Performance'!S93","v":0.54128440366972475}]
[{"$f":"'Team Performance'!B62","v":"Katelyn"},{"$f":"'Team Performance'!A62","v":"Team G"},{"$f":"'Team Performance'!E62","v":"Alabama"},{"$f":"'Team Performance'!S62","v":0.54}]
[{"$f":"'Team Performance'!B61","v":"Tatum"},{"$f":"'Team Performance'!A61","v":"Team F"},{"$f":"'Team Performance'!E61","v":"Hawaii"},{"$f":"'Team Performance'!S61","v":0.53921568627450978}]
[{"$f":"'Team Performance'!B83","v":"Giselle"},{"$f":"'Team Performance'!A83","v":"Team I"},{"$f":"'Team Performance'!E83","v":"Connecticut"},{"$f":"'Team Performance'!S83","v":0.53913043478260869}]
[{"$f":"'Team Performance'!B78","v":"Nomlanga"},{"$f":"'Team Performance'!A78","v":"Team H"},{"$f":"'Team Performance'!E78","v":"Florida"},{"$f":"'Team Performance'!S78","v":0.53773584905660377}]
[{"$f":"'Team Performance'!B96","v":"Jeremy"},{"$f":"'Team Performance'!A96","v":"Team J"},{"$f":"'Team Performance'!E96","v":"Florida"},{"$f":"'Team Performance'!S96","v":0.53703703703703709}]
[{"$f":"'Team Performance'!B102","v":"Hoyt"},{"$f":"'Team Performance'!A102","v":"Team J"},{"$f":"'Team Performance'!E102","v":"Florida"},{"$f":"'Team Performance'!S102","v":0.53703703703703709}]
[{"$f":"'Team Performance'!B28","v":"Jana"},{"$f":"'Team Performance'!A28","v":"Team C"},{"$f":"'Team Performance'!E28","v":"Colorado"},{"$f":"'Team Performance'!S28","v":0.53608247422680411}]
[{"$f":"'Team Performance'!B56","v":"Shelby"},{"$f":"'Team Performance'!A56","v":"Team F"},{"$f":"'Team Performance'!E56","v":"Alabama"},{"$f":"'Team Performance'!S56","v":0.53153153153153154}]
[{"$f":"'Team Performance'!B65","v":"Deanna"},{"$f":"'Team Performance'!A65","v":"Team G"},{"$f":"'Team Performance'!E65","v":"Connecticut"},{"$f":"'Team Performance'!S65","v":0.52941176470588236}]
[{"$f":"'Team Performance'!B3","v":"Amber"},{"$f":"'Team Performance'!A3","v":"Team A"},{"$f":"'Team Performance'!E3","v":"California"},{"$f":"'Team Performance'!S3","v":0.52884615384615385}]
[{"$f":"'Team Performance'!B19","v":"Sierra"},{"$f":"'Team Performance'!A19","v":"Team B"},{"$f":"'Team Performance'!E19","v":"Hawaii"},{"$f":"'Team Performance'!S19","v":0.52884615384615385}]
[{"$f":"'Team Performance'!B37","v":"Cheyenne"},{"$f":"'Team Performance'!A37","v":"Team D"},{"$f":"'Team Performance'!E37","v":"Hawaii"},{"$f":"'Team Performance'!S37","v":0.52777777777777779}]
[{"$f":"'Team Performance'!B87","v":"Karyn"},{"$f":"'Team Performance'!A87","v":"Team I"},{"$f":"'Team Performance'!E87","v":"California"},{"$f":"'Team Performance'!S87","v":0.52777777777777779}]
[{"$f":"'Team Performance'!B36","v":"Aileen"},{"$f":"'Team Performance'!A36","v":"Team D"},{"$f":"'Team Performance'!E36","v":"Florida"},{"$f":"'Team Performance'!S36","v":0.52252252252252251}]
[{"$f":"'Team Performance'!B11","v":"Farrah"},{"$f":"'Team Performance'!A11","v":"Team A"},{"$f":"'Team Performance'!E11","v":"Connecticut"},{"$f":"'Team Performance'!S11","v":0.52212389380530977}]
[{"$f":"'Team Performance'!B55","v":"Shelley"},{"$f":"'Team Performance'!A55","v":"Team F"},{"$f":"'Team Performance'!E55","v":"Hawaii"},{"$f":"'Team Performance'!S55","v":0.52040816326530615}]
[{"$f":"'Team Performance'!B33","v":"Daria"},{"$f":"'Team Performance'!A33","v":"Team D"},{"$f":"'Team Performance'!E33","v":"California"},{"$f":"'Team Performance'!S33","v":0.51923076923076927}]
[{"$f":"'Team Performance'!B68","v":"Dana"},{"$f":"'Team Performance'!A68","v":"Team G"},{"$f":"'Team Performance'!E68","v":"Alabama"},{"$f":"'Team Performance'!S68","v":0.51818181818181819}]
[{"$f":"'Team Performance'!B32","v":"Dara"},{"$f":"'Team Performance'!A32","v":"Team D"},{"$f":"'Team Performance'!E32","v":"Alabama"},{"$f":"'Team Performance'!S32","v":0.5145631067961165}]
[{"$f":"'Team Performance'!B49","v":"Zia"},{"$f":"'Team Performance'!A49","v":"Team E"},{"$f":"'Team Performance'!E49","v":"Hawaii"},{"$f":"'Team Performance'!S49","v":0.5145631067961165}]
[{"$f":"'Team Performance'!B25","v":"Camille"},{"$f":"'Team Performance'!A25","v":"Team C"},{"$f":"'Team Performance'!E25","v":"Hawaii"},{"$f":"'Team Performance'!S25","v":0.50485436893203883}]
[{"$f":"'Team Performance'!B41","v":"Kendall"},{"$f":"'Team Performance'!A41","v":"Team D"},{"$f":"'Team Performance'!E41","v":"Connecticut"},{"$f":"'Team Performance'!S41","v":0.32}]
[{"$f":"'Team Performance'!B44","v":"Nevada"},{"$f":"'Team Performance'!A44","v":"Team E"},{"$f":"'Team Performance'!E44","v":"Alabama"},{"$f":"'Team Performance'!S44","v":0.15}]

{"sheet":"Bottom 10 Team","index":5,"n_rows":103,"n_cols":4,"rows_kept":103,"cut":false,"hidden":false,"merged":[]}
[{"$f":"'Team Performance'!B1","v":"Team Members"},{"$f":"'Team Performance'!A1","v":"Team"},{"$f":"'Team Performance'!E1","v":"Region"},{"$f":"'Team Performance'!S1","v":"CSAT% (Customer Satisfaction)"}]
[{"$f":"'Team Performance'!B44","v":"Nevada"},{"$f":"'Team Performance'!A44","v":"Team E"},{"$f":"'Team Performance'!E44","v":"Alabama"},{"$f":"'Team Performance'!S44","v":0.15}]
[{"$f":"'Team Performance'!B41","v":"Kendall"},{"$f":"'Team Performance'!A41","v":"Team D"},{"$f":"'Team Performance'!E41","v":"Connecticut"},{"$f":"'Team Performance'!S41","v":0.32}]
[{"$f":"'Team Performance'!B25","v":"Camille"},{"$f":"'Team Performance'!A25","v":"Team C"},{"$f":"'Team Performance'!E25","v":"Hawaii"},{"$f":"'Team Performance'!S25","v":0.50485436893203883}]
[{"$f":"'Team Performance'!B32","v":"Dara"},{"$f":"'Team Performance'!A32","v":"Team D"},{"$f":"'Team Performance'!E32","v":"Alabama"},{"$f":"'Team Performance'!S32","v":0.5145631067961165}]
[{"$f":"'Team Performance'!B49","v":"Zia"},{"$f":"'Team Performance'!A49","v":"Team E"},{"$f":"'Team Performance'!E49","v":"Hawaii"},{"$f":"'Team Performance'!S49","v":0.5145631067961165}]
[{"$f":"'Team Performance'!B68","v":"Dana"},{"$f":"'Team Performance'!A68","v":"Team G"},{"$f":"'Team Performance'!E68","v":"Alabama"},{"$f":"'Team Performance'!S68","v":0.51818181818181819}]
[{"$f":"'Team Performance'!B33","v":"Daria"},{"$f":"'Team Performance'!A33","v":"Team D"},{"$f":"'Team Performance'!E33","v":"California"},{"$f":"'Team Performance'!S33","v":0.51923076923076927}]
[{"$f":"'Team Performance'!B55","v":"Shelley"},{"$f":"'Team Performance'!A55","v":"Team F"},{"$f":"'Team Performance'!E55","v":"Hawaii"},{"$f":"'Team Performance'!S55","v":0.52040816326530615}]
[{"$f":"'Team Performance'!B11","v":"Farrah"},{"$f":"'Team Performance'!A11","v":"Team A"},{"$f":"'Team Performance'!E11","v":"Connecticut"},{"$f":"'Team Performance'!S11","v":0.52212389380530977}]
[{"$f":"'Team Performance'!B36","v":"Aileen"},{"$f":"'Team Performance'!A36","v":"Team D"},{"$f":"'Team Performance'!E36","v":"Florida"},{"$f":"'Team Performance'!S36","v":0.52252252252252251}]
[{"$f":"'Team Performance'!B37","v":"Cheyenne"},{"$f":"'Team Performance'!A37","v":"Team D"},{"$f":"'Team Performance'!E37","v":"Hawaii"},{"$f":"'Team Performance'!S37","v":0.52777777777777779}]
[{"$f":"'Team Performance'!B87","v":"Karyn"},{"$f":"'Team Performance'!A87","v":"Team I"},{"$f":"'Team Performance'!E87","v":"California"},{"$f":"'Team Performance'!S87","v":0.52777777777777779}]
[{"$f":"'Team Performance'!B3","v":"Amber"},{"$f":"'Team Performance'!A3","v":"Team A"},{"$f":"'Team Performance'!E3","v":"California"},{"$f":"'Team Performance'!S3","v":0.52884615384615385}]
[{"$f":"'Team Performance'!B19","v":"Sierra"},{"$f":"'Team Performance'!A19","v":"Team B"},{"$f":"'Team Performance'!E19","v":"Hawaii"},{"$f":"'Team Performance'!S19","v":0.52884615384615385}]
[{"$f":"'Team Performance'!B65","v":"Deanna"},{"$f":"'Team Performance'!A65","v":"Team G"},{"$f":"'Team Performance'!E65","v":"Connecticut"},{"$f":"'Team Performance'!S65","v":0.52941176470588236}]
[{"$f":"'Team Performance'!B56","v":"Shelby"},{"$f":"'Team Performance'!A56","v":"Team F"},{"$f":"'Team Performance'!E56","v":"Alabama"},{"$f":"'Team Performance'!S56","v":0.53153153153153154}]
[{"$f":"'Team Performance'!B28","v":"Jana"},{"$f":"'Team Performance'!A28","v":"Team C"},{"$f":"'Team Performance'!E28","v":"Colorado"},{"$f":"'Team Performance'!S28","v":0.53608247422680411}]
[{"$f":"'Team Performance'!B96","v":"Jeremy"},{"$f":"'Team Performance'!A96","v":"Team J"},{"$f":"'Team Performance'!E96","v":"Florida"},{"$f":"'Team Performance'!S96","v":0.53703703703703709}]
[{"$f":"'Team Performance'!B102","v":"Hoyt"},{"$f":"'Team Performance'!A102","v":"Team J"},{"$f":"'Team Performance'!E102","v":"Florida"},{"$f":"'Team Performance'!S102","v":0.53703703703703709}]
[{"$f":"'Team Performance'!B78","v":"Nomlanga"},{"$f":"'Team Performance'!A78","v":"Team H"},{"$f":"'Team Performance'!E78","v":"Florida"},{"$f":"'Team Performance'!S78","v":0.53773584905660377}]
[{"$f":"'Team Performance'!B83","v":"Giselle"},{"$f":"'Team Performance'!A83","v":"Team I"},{"$f":"'Team Performance'!E83","v":"Connecticut"},{"$f":"'Team Performance'!S83","v":0.53913043478260869}]
[{"$f":"'Team Performance'!B61","v":"Tatum"},{"$f":"'Team Performance'!A61","v":"Team F"},{"$f":"'Team Performance'!E61","v":"Hawaii"},{"$f":"'Team Performance'!S61","v":0.53921568627450978}]
[{"$f":"'Team Performance'!B62","v":"Katelyn"},{"$f":"'Team Performance'!A62","v":"Team G"},{"$f":"'Team Performance'!E62","v":"Alabama"},{"$f":"'Team Performance'!S62","v":0.54}]
[{"$f":"'Team Performance'!B46","v":"Courtney"},{"$f":"'Team Performance'!A46","v":"Team E"},{"$f":"'Team Performance'!E46","v":"Colorado"},{"$f":"'Team Performance'!S46","v":0.54128440366972475}]
[{"$f":"'Team Performance'!B59","v":"Patricia"},{"$f":"'Team Performance'!A59","v":"Team F"},{"$f":"'Team Performance'!E59","v":"Connecticut"},{"$f":"'Team Performance'!S59","v":0.54128440366972475}]
[{"$f":"'Team Performance'!B71","v":"Rae"},{"$f":"'Team Performance'!A71","v":"Team G"},{"$f":"'Team Performance'!E71","v":"Connecticut"},{"$f":"'Team Performance'!S71","v":0.54128440366972475}]
[{"$f":"'Team Performance'!B93","v":"Jena"},{"$f":"'Team Performance'!A93","v":"Team J"},{"$f":"'Team Performance'!E93","v":"California"},{"$f":"'Team Performance'!S93","v":0.54128440366972475}]
[{"$f":"'Team Performance'!B51","v":"Quin"},{"$f":"'Team Performance'!A51","v":"Team E"},{"$f":"'Team Performance'!E51","v":"California"},{"$f":"'Team Performance'!S51","v":0.54205607476635509}]
[{"$f":"'Team Performance'!B66","v":"Mallory"},{"$f":"'Team Performance'!A66","v":"Team G"},{"$f":"'Team Performance'!E66","v":"Florida"},{"$f":"'Team Performance'!S66","v":0.5431034482758621}]
[{"$f":"'Team Performance'!B91","v":"Yolanda"},{"$f":"'Team Performance'!A91","v":"Team I"},{"$f":"'Team Performance'!E91","v":"Hawaii"},{"$f":"'Team Performance'!S91","v":0.5436893203883495}]
[{"$f":"'Team Performance'!B23","v":"Renee"},{"$f":"'Team Performance'!A23","v":"Team C"},{"$f":"'Team Performance'!E23","v":"Connecticut"},{"$f":"'Team Performance'!S23","v":0.54455445544554459}]
[{"$f":"'Team Performance'!B47","v":"Amanda"},{"$f":"'Team Performance'!A47","v":"Team E"},{"$f":"'Team Performance'!E47","v":"Connecticut"},{"$f":"'Team Performance'!S47","v":0.54545454545454541}]
[{"$f":"'Team Performance'!B85","v":"Calista"},{"$f":"'Team Performance'!A85","v":"Team I"},{"$f":"'Team Performance'!E85","v":"Hawaii"},{"$f":"'Team Performance'!S85","v":0.54545454545454541}]
[{"$f":"'Team Performance'!B9","v":"Guinevere"},{"$f":"'Team Performance'!A9","v":"Team A"},{"$f":"'Team Performance'!E9","v":"California"},{"$f":"'Team Performance'!S9","v":0.54639175257731953}]
[{"$f":"'Team Performance'!B15","v":"Winifred"},{"$f":"'Team Performance'!A15","v":"Team B"},{"$f":"'Team Performance'!E15","v":"California"},{"$f":"'Team Performance'!S15","v":0.54639175257731953}]
[{"$f":"'Team Performance'!B77","v":"Ashely"},{"$f":"'Team Performance'!A77","v":"Team H"},{"$f":"'Team Performance'!E77","v":"Connecticut"},{"$f":"'Team Performance'!S77","v":0.54716981132075471}]
[{"$f":"'Team Performance'!B13","v":"Quyn"},{"$f":"'Team Performance'!A13","v":"Team B"},{"$f":"'Team Performance'!E13","v":"Hawaii"},{"$f":"'Team Performance'!S13","v":0.54807692307692313}]
[{"$f":"'Team Performance'!B63","v":"Pamela"},{"$f":"'Team Performance'!A63","v":"Team G"},{"$f":"'Team Performance'!E63","v":"California"},{"$f":"'Team Performance'!S63","v":0.54867256637168138}]
[{"$f":"'Team Performance'!B26","v":"Shaine"},{"$f":"'Team Performance'!A26","v":"Team C"},{"$f":"'Team Performance'!E26","v":"Alabama"},{"$f":"'Team Performance'!S26","v":0.55000000000000004}]
[{"$f":"'Team Performance'!B81","v":"Hilary"},{"$f":"'Team Performance'!A81","v":"Team H"},{"$f":"'Team Performance'!E81","v":"California"},{"$f":"'Team Performance'!S81","v":0.55045871559633031}]
[{"$f":"'Team Performance'!B90","v":"Melodie"},{"$f":"'Team Performance'!A90","v":"Team I"},{"$f":"'Team Performance'!E90","v":"Florida"},{"$f":"'Team Performance'!S90","v":0.55084745762711862}]
[{"$f":"'Team Performance'!B14","v":"Xantha"},{"$f":"'Team Performance'!A14","v":"Team B"},{"$f":"'Team Performance'!E14","v":"Alabama"},{"$f":"'Team Performance'!S14","v":0.55140186915887845}]
[{"$f":"'Team Performance'!B97","v":"Oscar"},{"$f":"'Team Performance'!A97","v":"Team J"},{"$f":"'Team Performance'!E97","v":"Hawaii"},{"$f":"'Team Performance'!S97","v":0.55140186915887845}]
[{"$f":"'Team Performance'!B103","v":"Abel"},{"$f":"'Team Performance'!A103","v":"Team J"},{"$f":"'Team Performance'!E103","v":"Hawaii"},{"$f":"'Team Performance'!S103","v":0.55140186915887845}]
[{"$f":"'Team Performance'!B22","v":"Illana"},{"$f":"'Team Performance'!A22","v":"Team C"},{"$f":"'Team Performance'!E22","v":"Colorado"},{"$f":"'Team Performance'!S22","v":0.5544554455445545}]
[{"$f":"'Team Performance'!B24","v":"Olympia"},{"$f":"'Team Performance'!A24","v":"Team C"},{"$f":"'Team Performance'!E24","v":"Florida"},{"$f":"'Team Performance'!S24","v":0.5544554455445545}]
[{"$f":"'Team Performance'!B38","v":"Lois"},{"$f":"'Team Performance'!A38","v":"Team D"},{"$f":"'Team Performance'!E38","v":"Alabama"},{"$f":"'Team Performance'!S38","v":0.55454545454545456}]
[{"$f":"'Team Performance'!B40","v":"Ariana"},{"$f":"'Team Performance'!A40","v":"Team D"},{"$f":"'Team Performance'!E40","v":"Colorado"},{"$f":"'Team Performance'!S40","v":0.55454545454545456}]
[{"$f":"'Team Performance'!B69","v":"Regina"},{"$f":"'Team Performance'!A69","v":"Team G"},{"$f":"'Team Performance'!E69","v":"California"},{"$f":"'Team Performance'!S69","v":0.55555555555555558}]
[{"$f":"'Team Performance'!B17","v":"Keelie"},{"$f":"'Team Performance'!A17","v":"Team B"},{"$f":"'Team Performance'!E17","v":"Connecticut"},{"$f":"'Team Performance'!S17","v":0.55752212389380529}]
[{"$f":"'Team Performance'!B94","v":"Fleur"},{"$f":"'Team Performance'!A94","v":"Team J"},{"$f":"'Team Performance'!E94","v":"Colorado"},{"$f":"'Team Performance'!S94","v":0.55855855855855852}]
[{"$f":"'Team Performance'!B31","v":"April"},{"$f":"'Team Performance'!A31","v":"Team C"},{"$f":"'Team Performance'!E31","v":"Hawaii"},{"$f":"'Team Performance'!S31","v":0.55882352941176472}]
[{"$f":"'Team Performance'!B64","v":"Rhoda"},{"$f":"'Team Performance'!A64","v":"Team G"},{"$f":"'Team Performance'!E64","v":"Colorado"},{"$f":"'Team Performance'!S64","v":0.55882352941176472}]
[{"$f":"'Team Performance'!B74","v":"Carolyn"},{"$f":"'Team Performance'!A74","v":"Team H"},{"$f":"'Team Performance'!E74","v":"Alabama"},{"$f":"'Team Performance'!S74","v":0.56000000000000005}]
[{"$f":"'Team Performance'!B86","v":"Juliet"},{"$f":"'Team Performance'!A86","v":"Team I"},{"$f":"'Team Performance'!E86","v":"Alabama"},{"$f":"'Team Performance'!S86","v":0.5625}]
[{"$f":"'Team Performance'!B45","v":"Mercedes"},{"$f":"'Team Performance'!A45","v":"Team E"},{"$f":"'Team Performance'!E45","v":"California"},{"$f":"'Team Performance'!S45","v":0.56310679611650483}]
[{"$f":"'Team Performance'!B100","v":"Alec"},{"$f":"'Team Performance'!A100","v":"Team J"},{"$f":"'Team Performance'!E100","v":"Colorado"},{"$f":"'Team Performance'!S100","v":0.5636363636363636}]
[{"$f":"'Team Performance'!B42","v":"Lacy"},{"$f":"'Team Performance'!A42","v":"Team E"},{"$f":"'Team Performance'!E42","v":"Florida"},{"$f":"'Team Performance'!S42","v":0.5643564356435643}]
[{"$f":"'Team Performance'!B53","v":"Stacy"},{"$f":"'Team Performance'!A53","v":"Team F"},{"$f":"'Team Performance'!E53","v":"Connecticut"},{"$f":"'Team Performance'!S53","v":0.56603773584905659}]
[{"$f":"'Team Performance'!B34","v":"Ariel"},{"$f":"'Team Performance'!A34","v":"Team D"},{"$f":"'Team Performance'!E34","v":"Colorado"},{"$f":"'Team Performance'!S34","v":0.56896551724137934}]
[{"$f":"'Team Performance'!B48","v":"Madeline"},{"$f":"'Team Performance'!A48","v":"Team E"},{"$f":"'Team Performance'!E48","v":"Florida"},{"$f":"'Team Performance'!S48","v":0.56910569105691056}]
[{"$f":"'Team Performance'!B60","v":"Britanney"},{"$f":"'Team Performance'!A60","v":"Team F"},{"$f":"'Team Performance'!E60","v":"Florida"},{"$f":"'Team Performance'!S60","v":0.56999999999999995}]
[{"$f":"'Team Performance'!B6","v":"Libby"},{"$f":"'Team Performance'!A6","v":"Team A"},{"$f":"'Team Performance'!E6","v":"Florida"},{"$f":"'Team Performance'!S6","v":0.5714285714285714}]
[{"$f":"'Team Performance'!B89","v":"Portia"},{"$f":"'Team Performance'!A89","v":"Team I"},{"$f":"'Team Performance'!E89","v":"Connecticut"},{"$f":"'Team Performance'!S89","v":0.5714285714285714}]
[{"$f":"'Team Performance'!B92","v":"Serina"},{"$f":"'Team Performance'!A92","v":"Team I"},{"$f":"'Team Performance'!E92","v":"Alabama"},{"$f":"'Team Performance'!S92","v":0.57272727272727275}]
[{"$f":"'Team Performance'!B99","v":"Addison"},{"$f":"'Team Performance'!A99","v":"Team J"},{"$f":"'Team Performance'!E99","v":"California"},{"$f":"'Team Performance'!S99","v":0.57281553398058249}]
[{"$f":"'Team Performance'!B70","v":"Kirby"},{"$f":"'Team Performance'!A70","v":"Team G"},{"$f":"'Team Performance'!E70","v":"Colorado"},{"$f":"'Team Performance'!S70","v":0.57407407407407407}]
[{"$f":"'Team Performance'!B5","v":"Nola"},{"$f":"'Team Performance'!A5","v":"Team A"},{"$f":"'Team Performance'!E5","v":"Connecticut"},{"$f":"'Team Performance'!S5","v":0.57547169811320753}]
[{"$f":"'Team Performance'!B8","v":"Flavia"},{"$f":"'Team Performance'!A8","v":"Team A"},{"$f":"'Team Performance'!E8","v":"Alabama"},{"$f":"'Team Performance'!S8","v":0.57547169811320753}]
[{"$f":"'Team Performance'!B20","v":"Gay"},{"$f":"'Team Performance'!A20","v":"Team B"},{"$f":"'Team Performance'!E20","v":"Alabama"},{"$f":"'Team Performance'!S20","v":0.57547169811320753}]
[{"$f":"'Team Performance'!B54","v":"Dai"},{"$f":"'Team Performance'!A54","v":"Team F"},{"$f":"'Team Performance'!E54","v":"Florida"},{"$f":"'Team Performance'!S54","v":0.57547169811320753}]
[{"$f":"'Team Performance'!B67","v":"Medge"},{"$f":"'Team Performance'!A67","v":"Team G"},{"$f":"'Team Performance'!E67","v":"Hawaii"},{"$f":"'Team Performance'!S67","v":0.5757575757575758}]
[{"$f":"'Team Performance'!B2","v":"Sydnee"},{"$f":"'Team Performance'!A2","v":"Team A"},{"$f":"'Team Performance'!E2","v":"Alabama"},{"$f":"'Team Performance'!S2","v":0.57657657657657657}]
[{"$f":"'Team Performance'!B30","v":"Rosalyn"},{"$f":"'Team Performance'!A30","v":"Team C"},{"$f":"'Team Performance'!E30","v":"Florida"},{"$f":"'Team Performance'!S30","v":0.57657657657657657}]
[{"$f":"'Team Performance'!B72","v":"Frances"},{"$f":"'Team Performance'!A72","v":"Team H"},{"$f":"'Team Performance'!E72","v":"Florida"},{"$f":"'Team Performance'!S72","v":0.57657657657657657}]
[{"$f":"'Team Performance'!B7","v":"Tashya"},{"$f":"'Team Performance'!A7","v":"Team A"},{"$f":"'Team Performance'!E7","v":"Hawaii"},{"$f":"'Team Performance'!S7","v":0.57692307692307687}]
[{"$f":"'Team Performance'!B35","v":"Hermione"},{"$f":"'Team Performance'!A35","v":"Team D"},{"$f":"'Team Performance'!E35","v":"Connecticut"},{"$f":"'Team Performance'!S35","v":0.57692307692307687}]
[{"$f":"'Team Performance'!B52","v":"Ivory"},{"$f":"'Team Performance'!A52","v":"Team F"},{"$f":"'Team Performance'!E52","v":"Colorado"},{"$f":"'Team Performance'!S52","v":0.57851239669421484}]
[{"$f":"'Team Performance'!B18","v":"Brynne"},{"$f":"'Team Performance'!A18","v":"Team B"},{"$f":"'Team Performance'!E18","v":"Florida"},{"$f":"'Team Performance'!S18","v":0.5803571428571429}]
[{"$f":"'Team Performance'!B82","v":"Gretchen"},{"$f":"'Team Performance'!A82","v":"Team I"},{"$f":"'Team Performance'!E82","v":"Colorado"},{"$f":"'Team Performance'!S82","v":0.5803571428571429}]
[{"$f":"'Team Performance'!B88","v":"Noelani"},{"$f":"'Team Performance'!A88","v":"Team I"},{"$f":"'Team Performance'!E88","v":"Colorado"},{"$f":"'Team Performance'!S88","v":0.5803571428571429}]
[{"$f":"'Team Performance'!B16","v":"Iona"},{"$f":"'Team Performance'!A16","v":"Team B"},{"$f":"'Team Performance'!E16","v":"Colorado"},{"$f":"'Team Performance'!S16","v":0.580952380952381}]
[{"$f":"'Team Performance'!B58","v":"Cleo"},{"$f":"'Team Performance'!A58","v":"Team F"},{"$f":"'Team Performance'!E58","v":"Colorado"},{"$f":"'Team Performance'!S58","v":0.580952380952381}]
[{"$f":"'Team Performance'!B79","v":"Kirestin"},{"$f":"'Team Performance'!A79","v":"Team H"},{"$f":"'Team Performance'!E79","v":"Hawaii"},{"$f":"'Team Performance'!S79","v":0.580952380952381}]
[{"$f":"'Team Performance'!B75","v":"Zenia"},{"$f":"'Team Performance'!A75","v":"Team H"},{"$f":"'Team Performance'!E75","v":"California"},{"$f":"'Team Performance'!S75","v":0.58181818181818179}]
[{"$f":"'Team Performance'!B21","v":"Inez"},{"$f":"'Team Performance'!A21","v":"Team B"},{"$f":"'Team Performance'!E21","v":"California"},{"$f":"'Team Performance'!S21","v":0.58333333333333337}]
[{"$f":"'Team Performance'!B27","v":"Maris"},{"$f":"'Team Performance'!A27","v":"Team C"},{"$f":"'Team Performance'!E27","v":"California"},{"$f":"'Team Performance'!S27","v":0.58407079646017701}]
[{"$f":"'Team Performance'!B43","v":"Heather"},{"$f":"'Team Performance'!A43","v":"Team E"},{"$f":"'Team Performance'!E43","v":"Hawaii"},{"$f":"'Team Performance'!S43","v":0.58415841584158412}]
[{"$f":"'Team Performance'!B80","v":"Serena"},{"$f":"'Team Performance'!A80","v":"Team H"},{"$f":"'Team Performance'!E80","v":"Alabama"},{"$f":"'Team Performance'!S80","v":0.58490566037735847}]
[{"$f":"'Team Performance'!B10","v":"Darryl"},{"$f":"'Team Performance'!A10","v":"Team A"},{"$f":"'Team Performance'!E10","v":"Colorado"},{"$f":"'Team Performance'!S10","v":0.58620689655172409}]
[{"$f":"'Team Performance'!B95","v":"Illiana"},{"$f":"'Team Performance'!A95","v":"Team J"},{"$f":"'Team Performance'!E95","v":"Connecticut"},{"$f":"'Team Performance'!S95","v":0.58653846153846156}]
[{"$f":"'Team Performance'!B84","v":"Galena"},{"$f":"'Team Performance'!A84","v":"Team I"},{"$f":"'Team Performance'!E84","v":"Florida"},{"$f":"'Team Performance'!S84","v":0.58823529411764708}]
[{"$f":"'Team Performance'!B12","v":"Rowan"},{"$f":"'Team Performance'!A12","v":"Team B"},{"$f":"'Team Performance'!E12","v":"Florida"},{"$f":"'Team Performance'!S12","v":0.59183673469387754}]
[{"$f":"'Team Performance'!B76","v":"Phyllis"},{"$f":"'Team Performance'!A76","v":"Team H"},{"$f":"'Team Performance'!E76","v":"Colorado"},{"$f":"'Team Performance'!S76","v":0.59405940594059403}]
[{"$f":"'Team Performance'!B39","v":"Madeson"},{"$f":"'Team Performance'!A39","v":"Team D"},{"$f":"'Team Performance'!E39","v":"California"},{"$f":"'Team Performance'!S39","v":0.59459459459459463}]
[{"$f":"'Team Performance'!B101","v":"Rafael"},{"$f":"'Team Performance'!A101","v":"Team J"},{"$f":"'Team Performance'!E101","v":"Connecticut"},{"$f":"'Team Performance'!S101","v":0.59813084112149528}]
[{"$f":"'Team Performance'!B29","v":"Audra"},{"$f":"'Team Performance'!A29","v":"Team C"},{"$f":"'Team Performance'!E29","v":"Connecticut"},{"$f":"'Team Performance'!S29","v":0.5982142857142857}]
[{"$f":"'Team Performance'!B73","v":"Xerxes"},{"$f":"'Team Performance'!A73","v":"Team H"},{"$f":"'Team Performance'!E73","v":"Hawaii"},{"$f":"'Team Performance'!S73","v":0.5982142857142857}]
[{"$f":"'Team Performance'!B98","v":"Luke"},{"$f":"'Team Performance'!A98","v":"Team J"},{"$f":"'Team Performance'!E98","v":"Alabama"},{"$f":"'Team Performance'!S98","v":0.60576923076923073}]
[{"$f":"'Team Performance'!B57","v":"Riley"},{"$f":"'Team Performance'!A57","v":"Team F"},{"$f":"'Team Performance'!E57","v":"California"},{"$f":"'Team Performance'!S57","v":0.62385321100917435}]
[{"$f":"'Team Performance'!B50","v":"Miriam"},{"$f":"'Team Performance'!A50","v":"Team E"},{"$f":"'Team Performance'!E50","v":"Alabama"},{"$f":"'Team Performance'!S50","v":0.63063063063063063}]
[{"$f":"'Team Performance'!B4","v":"Constance"},{"$f":"'Team Performance'!A4","v":"Team A"},{"$f":"'Team Performance'!E4","v":"Colorado"},{"$f":"'Team Performance'!S4","v":0.63716814159292035}]

{"sheet":"Top Bottom 10 Revenue","index":6,"n_rows":103,"n_cols":13,"rows_kept":103,"cut":false,"hidden":false,"merged":[]}
[null,null,null,null,null,"Team","$ Revenue","Revenue %","Team Members","Revenue",null,"Jeremy",1020]
[null,null,null,null,null,"Team I",24446,{"$f":"G2/$G$12","v":0.12669603524229076},"Zia",2890,null,"Madeson",1054]
[null,null,null,null,null,"Team G",22644,{"$f":"G3/$G$12","v":0.1173568281938326},"Farrah",2856,null,"Oscar",1088]
[null,null,null,null,null,"Team E",22440,0.11629955947136564,"Dana",2788,null,"Gay",1122]
[null,null,null,null,null,"Team C",20570,0.1066079295154185,"Rowan",2720,null,"Patricia",1156]
[null,null,null,null,null,"Team A",19652,0.10185022026431718,"Miriam",2686,null,"Britanney",1190]
[null,null,null,null,null,"Team B",18428,9.5506607929515416E-2,"Juliet",2686,null,"Cleo",1190]
[null,null,null,null,null,"Team J",17204,8.9162995594713662E-2,"Karyn",2686,null,"Illana",1190]
[null,null,null,null,null,"Team D",16388,8.4933920704845817E-2,"Madeline",2652,null,"Sierra",1190]
[null,null,null,null,null,"Team F",15878,8.229074889867842E-2,"Rosalyn",2584,null,"Ashely",1224]
[null,null,null,null,null,"Team H",15300,7.9295154185022032E-2,"Darryl",2550,null,"Kirestin",1224]
[null,null,null,null,null,null,{"$f":"SUM(G2:G11)","v":192950},null,"Regina",2550,null,"Lois",1224]
[null,null,null,null,null,null,null,null,"Jana",2448,null,"Phyllis",1258]
[null,null,null,null,null,null,null,null,"Quyn",2414,null,"Sydnee",1258]
[null,null,null,null,null,"Region",null,null,"Audra",2414,null,"Nomlanga",1292]
[null,null,null,null,null,"Alabama",{"$f":"SUMIF('Team Performance'!$E:$E,$F16,'Team Performance'!$K:$K)","v":32334},{"$f":"G16/$G$22","v":0.16757709251101321},"Noelani",2414,null,"Amber",1326]
[null,null,null,null,null,"California",{"$f":"SUMIF('Team Performance'!$E:$E,$F17,'Team Performance'!$K:$K)","v":31994},{"$f":"G17/$G$22","v":0.16581497797356828},"April",2380,null,"Ariana",1326]
[null,null,null,null,null,"Colorado",{"$f":"SUMIF('Team Performance'!$E:$E,$F18,'Team Performance'!$K:$K)","v":31586},0.16370044052863436,"Medge",2380,null,"Inez",1360]
[null,null,null,null,null,"Connecticut",{"$f":"SUMIF('Team Performance'!$E:$E,$F19,'Team Performance'!$K:$K)","v":32436},0.1681057268722467,"Rae",2380,null,"Luke",1360]
[null,null,null,null,null,"Florida",{"$f":"SUMIF('Team Performance'!$E:$E,$F20,'Team Performance'!$K:$K)","v":32300},0.16740088105726872,"Guinevere",2346,null,"Serena",1360]
[null,null,null,null,null,"Hawaii",{"$f":"SUMIF('Team Performance'!$E:$E,$F21,'Team Performance'!$K:$K)","v":32300},0.16740088105726872,"Xantha",2346,null,"Constance",1394]
[null,null,null,null,null,null,{"$f":"SUM(G16:G21)","v":192950},null,"Mallory",2346,null,"Illiana",1428]
[null,null,null,null,null,null,null,null,"Dara",2312,null,"Addison",1462]
[null,null,null,null,null,null,null,null,"Courtney",2312,null,"Riley",1462]
[null,null,null,null,null,null,null,null,"Melodie",2312,null,"Tatum",1462]
[null,null,null,null,null,null,null,null,"Amanda",2278,null,"Brynne",1496]
[null,null,null,null,null,null,null,null,"Quin",2244,null,"Cheyenne",1496]
[null,null,null,null,null,null,null,null,"Kirby",2244,null,"Kendall",1496]
[null,null,null,null,null,null,null,null,"Portia",2244,null,"Zenia",1564]
[null,null,null,null,null,null,null,null,"Daria",2210,null,"Heather",1598]
[null,null,null,null,null,null,null,null,"Mercedes",2210,null,"Lacy",1598]
[null,null,null,null,null,null,null,null,"Stacy",2210,null,"Shelby",1598]
[null,null,null,null,null,null,null,null,"Deanna",2210,null,"Renee",1632]
[null,null,null,null,null,null,null,null,"Calista",2210,null,"Aileen",1666]
[null,null,null,null,null,null,null,null,"Tashya",2176,null,"Fleur",1666]
[null,null,null,null,null,null,null,null,"Maris",2176,null,"Hilary",1666]
[null,null,null,null,null,null,null,null,"Ivory",2176,null,"Rafael",1700]
[null,null,null,null,null,null,null,null,"Galena",2108,null,"Shelley",1700]
[null,null,null,null,null,null,null,null,"Abel",2108,null,"Alec",1734]
[null,null,null,null,null,null,null,null,"Rhoda",2074,null,"Dai",1734]
[null,null,null,null,null,null,null,null,"Yolanda",2074,null,"Hermione",1734]
[null,null,null,null,null,null,null,null,"Flavia",2040,null,"Katelyn",1734]
[null,null,null,null,null,null,null,null,"Serina",2040,null,"Nola",1734]
[null,null,null,null,null,null,null,null,"Shaine",2006,null,"Gretchen",1768]
[null,null,null,null,null,null,null,null,"Xerxes",2006,null,"Jena",1768]
[null,null,null,null,null,null,null,null,"Libby",1972,null,"Carolyn",1802]
[null,null,null,null,null,null,null,null,"Winifred",1972,null,"Keelie",1836]
[null,null,null,null,null,null,null,null,"Iona",1972,null,"Olympia",1836]
[null,null,null,null,null,null,null,null,"Nevada",1972,null,"Ariel",1870]
[null,null,null,null,null,null,null,null,"Pamela",1938,null,"Hoyt",1870]
[null,null,null,null,null,null,null,null,"Camille",1904,null,"Camille",1904]
[null,null,null,null,null,null,null,null,"Frances",1904,null,"Frances",1904]
[null,null,null,null,null,null,null,null,"Giselle",1904,null,"Giselle",1904]
[null,null,null,null,null,null,null,null,"Ariel",1870,null,"Pamela",1938]
[null,null,null,null,null,null,null,null,"Hoyt",1870,null,"Iona",1972]
[null,null,null,null,null,null,null,null,"Keelie",1836,null,"Libby",1972]
[null,null,null,null,null,null,null,null,"Olympia",1836,null,"Nevada",1972]
[null,null,null,null,null,null,null,null,"Carolyn",1802,null,"Winifred",1972]
[null,null,null,null,null,null,null,null,"Gretchen",1768,null,"Shaine",2006]
[null,null,null,null,null,null,null,null,"Jena",1768,null,"Xerxes",2006]
[null,null,null,null,null,null,null,null,"Nola",1734,null,"Flavia",2040]
[null,null,null,null,null,null,null,null,"Hermione",1734,null,"Serina",2040]
[null,null,null,null,null,null,null,null,"Dai",1734,null,"Rhoda",2074]
[null,null,null,null,null,null,null,null,"Katelyn",1734,null,"Yolanda",2074]
[null,null,null,null,null,null,null,null,"Alec",1734,null,"Abel",2108]
[null,null,null,null,null,null,null,null,"Shelley",1700,null,"Galena",2108]
[null,null,null,null,null,null,null,null,"Rafael",1700,null,"Ivory",2176]
[null,null,null,null,null,null,null,null,"Aileen",1666,null,"Maris",2176]
[null,null,null,null,null,null,null,null,"Hilary",1666,null,"Tashya",2176]
[null,null,null,null,null,null,null,null,"Fleur",1666,null,"Calista",2210]
[null,null,null,null,null,null,null,null,"Renee",1632,null,"Daria",2210]
[null,null,null,null,null,null,null,null,"Lacy",1598,null,"Deanna",2210]
[null,null,null,null,null,null,null,null,"Heather",1598,null,"Mercedes",2210]
[null,null,null,null,null,null,null,null,"Shelby",1598,null,"Stacy",2210]
[null,null,null,null,null,null,null,null,"Zenia",1564,null,"Kirby",2244]
[null,null,null,null,null,null,null,null,"Brynne",1496,null,"Portia",2244]
[null,null,null,null,null,null,null,null,"Cheyenne",1496,null,"Quin",2244]
[null,null,null,null,null,null,null,null,"Kendall",1496,null,"Amanda",2278]
[null,null,null,null,null,null,null,null,"Riley",1462,null,"Courtney",2312]
[null,null,null,null,null,null,null,null,"Tatum",1462,null,"Dara",2312]
[null,null,null,null,null,null,null,null,"Addison",1462,null,"Melodie",2312]
[null,null,null,null,null,null,null,null,"Illiana",1428,null,"Guinevere",2346]
[null,null,null,null,null,null,null,null,"Constance",1394,null,"Mallory",2346]
[null,null,null,null,null,null,null,null,"Inez",1360,null,"Xantha",2346]
[null,null,null,null,null,null,null,null,"Serena",1360,null,"April",2380]
[null,null,null,null,null,null,null,null,"Luke",1360,null,"Medge",2380]
[null,null,null,null,null,null,null,null,"Amber",1326,null,"Rae",2380]
[null,null,null,null,null,null,null,null,"Ariana",1326,null,"Audra",2414]
[null,null,null,null,null,null,null,null,"Nomlanga",1292,null,"Noelani",2414]
[null,null,null,null,null,null,null,null,"Sydnee",1258,null,"Quyn",2414]
[null,null,null,null,null,null,null,null,"Phyllis",1258,null,"Jana",2448]
[null,null,null,null,null,null,null,null,"Lois",1224,null,"Darryl",2550]
[null,null,null,null,null,null,null,null,"Ashely",1224,null,"Regina",2550]
[null,null,null,null,null,null,null,null,"Kirestin",1224,null,"Rosalyn",2584]
[null,null,null,null,null,null,null,null,"Sierra",1190,null,"Madeline",2652]
[null,null,null,null,null,null,null,null,"Illana",1190,null,"Juliet",2686]
[null,null,null,null,null,null,null,null,"Cleo",1190,null,"Karyn",2686]
[null,null,null,null,null,null,null,null,"Britanney",1190,null,"Miriam",2686]
[null,null,null,null,null,null,null,null,"Patricia",1156,null,"Rowan",2720]
[null,null,null,null,null,null,null,null,"Gay",1122,null,"Dana",2788]
[null,null,null,null,null,null,null,null,"Oscar",1088,null,"Farrah",2856]
[null,null,null,null,null,null,null,null,"Madeson",1054,null,"Zia",2890]
[null,null,null,null,null,null,null,null,"Jeremy",1020,null,"Team Members","Revenue"]